BEGIN:VCALENDAR
VERSION:2.0
PRODID:-//PIANYC - ECPv5.12.4//NONSGML v1.0//EN
CALSCALE:GREGORIAN
METHOD:PUBLISH
X-WR-CALNAME:PIANYC
X-ORIGINAL-URL:https://www.pianyc.net
X-WR-CALDESC:Events for PIANYC
BEGIN:VTIMEZONE
TZID:America/New_York
BEGIN:DAYLIGHT
TZOFFSETFROM:-0500
TZOFFSETTO:-0400
TZNAME:EDT
DTSTART:20250309T070000
END:DAYLIGHT
BEGIN:STANDARD
TZOFFSETFROM:-0400
TZOFFSETTO:-0500
TZNAME:EST
DTSTART:20251102T060000
END:STANDARD
END:VTIMEZONE
BEGIN:VEVENT
DTSTART;TZID=America/New_York:20250123T193000
DTEND;TZID=America/New_York:20250123T213000
DTSTAMP:20260422T045728
CREATED:20241222T205348Z
LAST-MODIFIED:20241222T210735Z
UID:175963-1737660600-1737667800@www.pianyc.net
SUMMARY:Chamber Music Recital: Agata Miklavc\, Violin & Jason Solounias\, Piano at The Kosciuszko Foundation
DESCRIPTION:A wine reception will follow the recital. \nProgram: \nMythes\, Op. 30 by Karol Szymanowski \nI. La fontaine d’Arethuse (The Fountain of Arethusa)\nII. Narcisse (Narcissus)\nIII. Dryades et Pan (Dryads and Pan) \nDivertimento for Violin and Piano (Le baiser de la fee\, The Fairy’s Kiss) by Igor Stravinsky\, arr. S. Dushkin \nI. Sinfonia\nII. Danses suisses\nIII. Scherzo\nIV. Pas de deux: Adagio – Variation – Coda \nFantasy for Violin and Piano D.934 by Franz Schubert \nABOUT THE ARTISTS: \nViolinist Agata Miklavc began her musical journey at three in Ljubljana\, Slovenia\, where she made her public debut at the age of five at the Great Hall of Cankar Center. She performed in halls such as the Kennedy Center\, Slovenian Philharmonic\, RTV Slovenia\, Sarajevo National Theater (BiH)\, The Army Hall (BiH)\, The Gaillard Center\, Musikverein Wien (AU)\, Mozarteum Salzburg (AU)\, Rector’s Palace in Dubrovnik (HR)\, Crystal Hall of Slovenia\, The Meyerson Symphony Center and Winspear Opera House\, to name a few. She has received awards and distinctions at international competitions such as the Temsig (Ljubljana\, Slovenia)\, Burgos International Festival and Competition (Burgos\, Spain)\, and Glazunov International Competition (Paris\, France). \nSince 2021\, Ms.Miklavc has performed with the Charleston Symphony Orchestra in Charleston\, South Carolina. In May 2023\, she was appointed concertmaster of Georgetown Chorale in Washington\, D.C. She also serves as an artistic director of “Georgetown Chamber Players” and leader of “Georgetown Chamber Orchestra” which she co-founded in 2023. She is an associate professor at the Gingold International Chamber Music Festival and a faculty member at Levine Music in Washington\, D.C. \nPraised by the American Record Guide as “…a superb musician” Jason Solounias has performed across the United States and Europe\, ranging from the Kennedy Center to Southwark Cathedral\, including performances at Millennium Stage\, the Lincoln Theater\, Steinway Society of Puerto Rico\, An Die Musik\, Duomo di Amalfi\, Junior Soto Recital Hall\, The Arts Club of Washington\, WETA\, Church of Epiphany Concert Series\, and the Lisner Auditorium. He has collaborated with Andrés Cardénes\, Amit Peled\, Gary Levinson\, Elizabeth Hill\, the 6821 Quintet\, and The Tango Cammarata. He has appeared as a soloist with the National Opera Orchestra\, Trinity Chamber Orchestra\, the Susquehanna Symphony Orchestra\, and the Pan American Symphony Orchestra. He has also been a featured soloist for Shigeru Kawai at the National Piano Technicians Guild Conference. \nMore: https://www.jasonsolounias.com/ \n  \nEvent sponsor: Mr. Krystyna Piórkowska \n 
URL:https://www.pianyc.net/event/chamber-music-recital-agata-miklavc-violin-jason-solounias-piano-at-the-kosciuszko-foundation/
LOCATION:The Kosciuszko Foundation\, 15 East 65th Street\, New York\, NY\, 10065\, United States
CATEGORIES:Live Musical Performance
ATTACH;FMTTYPE=image/jpeg:https://img.evbuc.com/https%3A%2F%2Fcdn.evbuc.com%2Fimages%2F920000543%2F184565027371%2F1%2Foriginal.20241218-230457?crop=focalpoint&fit=crop&w=1000&auto=format%2Ccompress&q=75&sharp=10&fp-x=0.5&fp-y=0.5&s=04047bfd128ab6d9146b036a7fb56d5d
GEO:40.7677581;-73.9690727
X-APPLE-STRUCTURED-LOCATION;VALUE=URI;X-ADDRESS=The Kosciuszko Foundation 15 East 65th Street New York NY 10065 United States;X-APPLE-RADIUS=500;X-TITLE=15 East 65th Street:geo:-73.9690727,40.7677581
END:VEVENT
END:VCALENDAR