BEGIN:VCALENDAR
VERSION:2.0
PRODID:-//PIANYC - ECPv5.12.4//NONSGML v1.0//EN
CALSCALE:GREGORIAN
METHOD:PUBLISH
X-WR-CALNAME:PIANYC
X-ORIGINAL-URL:https://www.pianyc.net
X-WR-CALDESC:Events for PIANYC
BEGIN:VTIMEZONE
TZID:America/New_York
BEGIN:DAYLIGHT
TZOFFSETFROM:-0500
TZOFFSETTO:-0400
TZNAME:EDT
DTSTART:20250309T070000
END:DAYLIGHT
BEGIN:STANDARD
TZOFFSETFROM:-0400
TZOFFSETTO:-0500
TZNAME:EST
DTSTART:20251102T060000
END:STANDARD
END:VTIMEZONE
BEGIN:VEVENT
DTSTART;TZID=America/New_York:20250201T190000
DTEND;TZID=America/New_York:20250201T213000
DTSTAMP:20260423T043417
CREATED:20250202T150244Z
LAST-MODIFIED:20250202T150244Z
UID:177062-1738436400-1738445400@www.pianyc.net
SUMMARY:Celebration of the 150th Anniversary of Fritz Kreisler at Redeemer Presbyterian Church West Side
DESCRIPTION:This concert will feature performances by the talented musicians Martin Stoner\, violin\, Eileen Buck\, piano\, and Giorgi Guliashvili\, tenor\, honoring Fritz Kreisler’s remarkable legacy. Ticket price: $20. For tickets\, please go to Evenbrite (or scan link below)
URL:https://www.pianyc.net/event/celebration-of-the-150th-anniversary-of-fritz-kreisler-at-redeemer-presbyterian-church-west-side/
LOCATION:Redeemer Presbyterian Church West Side\, 150 W 83rd St\, New York\, NY\, 10024\, United States
CATEGORIES:Live Musical Performance
ATTACH;FMTTYPE=image/jpeg:https://img.evbuc.com/https%3A%2F%2Fcdn.evbuc.com%2Fimages%2F927821993%2F1240309816%2F1%2Foriginal.20250105-035226?crop=focalpoint&fit=crop&w=1000&auto=format%2Ccompress&q=75&sharp=10&fp-x=0.464510830966&fp-y=0.110672757475&s=3c1646e28a068b449b3851b90e756a63
GEO:40.7851435;-73.975681
X-APPLE-STRUCTURED-LOCATION;VALUE=URI;X-ADDRESS=Redeemer Presbyterian Church West Side 150 W 83rd St New York NY 10024 United States;X-APPLE-RADIUS=500;X-TITLE=150 W 83rd St:geo:-73.975681,40.7851435
END:VEVENT
END:VCALENDAR