BEGIN:VCALENDAR
VERSION:2.0
PRODID:-//PIANYC - ECPv5.12.4//NONSGML v1.0//EN
CALSCALE:GREGORIAN
METHOD:PUBLISH
X-WR-CALNAME:PIANYC
X-ORIGINAL-URL:https://www.pianyc.net
X-WR-CALDESC:Events for PIANYC
BEGIN:VTIMEZONE
TZID:America/New_York
BEGIN:DAYLIGHT
TZOFFSETFROM:-0500
TZOFFSETTO:-0400
TZNAME:EDT
DTSTART:20250309T070000
END:DAYLIGHT
BEGIN:STANDARD
TZOFFSETFROM:-0400
TZOFFSETTO:-0500
TZNAME:EST
DTSTART:20251102T060000
END:STANDARD
END:VTIMEZONE
BEGIN:VEVENT
DTSTART;TZID=America/New_York:20250214T190000
DTEND;TZID=America/New_York:20250214T220000
DTSTAMP:20260423T074242
CREATED:20250202T151647Z
LAST-MODIFIED:20250202T151647Z
UID:177072-1739559600-1739570400@www.pianyc.net
SUMMARY:Celebrate Valentine's Day in The Piano Bar Upstairs at Fraunces Tavern
DESCRIPTION:$49\, excluding tax. \nLove fills the air in the Piano Bar Upstairs at Fraunces Tavern. Pianist Tim Splain sets the musical mood for an elegant evening of love songs old and new. From Nat King Cole to Norah Jones\, from Ella to Elton\, Tim sets the scene for a perfect night of memories and melodies in this historic and intimate setting. \nIncluded in your ticket is your seat for the live 3 hour performance\, as well your choice of a complimentary Chocolate Martini or True Romance – Gin & Tonic Cocktail. \nSpecial Valentine’s Prix Fixe Menu will be available on the night.
URL:https://www.pianyc.net/event/celebrate-valentines-day-in-the-piano-bar-upstairs-at-fraunces-tavern/
LOCATION:Fraunces Tavern\, New York\, NY\, United States
CATEGORIES:Live Musical Performance
ATTACH;FMTTYPE=image/jpeg:https://img.evbuc.com/https%3A%2F%2Fcdn.evbuc.com%2Fimages%2F937724023%2F161837058518%2F1%2Foriginal.20250116-204648?crop=focalpoint&fit=crop&w=1000&auto=format%2Ccompress&q=75&sharp=10&fp-x=0.5&fp-y=0.426616896444&s=7966647d84b5be206530280cf1626e3e
GEO:40.7127753;-74.0059728
END:VEVENT
END:VCALENDAR