BEGIN:VCALENDAR
VERSION:2.0
PRODID:-//PIANYC - ECPv5.12.4//NONSGML v1.0//EN
CALSCALE:GREGORIAN
METHOD:PUBLISH
X-WR-CALNAME:PIANYC
X-ORIGINAL-URL:https://www.pianyc.net
X-WR-CALDESC:Events for PIANYC
BEGIN:VTIMEZONE
TZID:America/New_York
BEGIN:DAYLIGHT
TZOFFSETFROM:-0500
TZOFFSETTO:-0400
TZNAME:EDT
DTSTART:20260308T070000
END:DAYLIGHT
BEGIN:STANDARD
TZOFFSETFROM:-0400
TZOFFSETTO:-0500
TZNAME:EST
DTSTART:20261101T060000
END:STANDARD
END:VTIMEZONE
BEGIN:VEVENT
DTSTART;TZID=America/New_York:20260214T170000
DTEND;TZID=America/New_York:20260214T233000
DTSTAMP:20260420T053133
CREATED:20260121T024323Z
LAST-MODIFIED:20260122T020734Z
UID:195802-1771088400-1771111800@www.pianyc.net
SUMMARY:Celebrate Valentine's Day in The Piano Bar Upstairs at Fraunces Tavern
DESCRIPTION:Offering two romantic seatings\, giving guests the option to enjoy an early evening or a later night out. \n\n\n\nEarly Seating\n5:00pm – 7:30pm\nLive performance by Timothy Splain \nSettle in for an intimate early-evening performance in a romantic piano bar setting.\nEach guest will enjoy a complimentary glass of Prosecco or a Chocolate Martini on arrival. \nTicket Price: $39 per person\nFood & Beverage Minimum: $30 per person (excluding tax & gratuity) \nLate Seating\n8:00pm – 11:30pm\nLive performance by Lauren & Kristin \nFor those who prefer a later celebration\, the Piano Bar transforms for a lively Valentine’s night performance.\nEach guest will enjoy a complimentary glass of Prosecco or a Chocolate Martini on arrival. \nTicket Price: $49 per person\nFood & Beverage Minimum: $30 per person (excluding tax & gratuity) \nImportant Notes \n\nTickets are valid only for the selected seating time\nA $30 per person food & beverage minimum applies to both seatings\nComplimentary drink included with each ticket (choice of Prosecco or Chocolate Martini)\nSeating times are fixed and cannot be combined
URL:https://www.pianyc.net/event/celebrate-valentines-day-in-the-piano-bar-upstairs-at-fraunces-tavern-2/
LOCATION:Fraunces Tavern\, New York\, NY\, United States
CATEGORIES:Live Musical Performance
ATTACH;FMTTYPE=image/jpeg:https://cdn.evbuc.com/images/1175070477/161837058518/1/original.20260116-173953
GEO:40.7127753;-74.0059728
END:VEVENT
END:VCALENDAR