BEGIN:VCALENDAR
VERSION:2.0
PRODID:-//PIANYC - ECPv5.12.4//NONSGML v1.0//EN
CALSCALE:GREGORIAN
METHOD:PUBLISH
X-WR-CALNAME:PIANYC
X-ORIGINAL-URL:https://www.pianyc.net
X-WR-CALDESC:Events for PIANYC
BEGIN:VTIMEZONE
TZID:America/New_York
BEGIN:DAYLIGHT
TZOFFSETFROM:-0500
TZOFFSETTO:-0400
TZNAME:EDT
DTSTART:20230312T070000
END:DAYLIGHT
BEGIN:STANDARD
TZOFFSETFROM:-0400
TZOFFSETTO:-0500
TZNAME:EST
DTSTART:20231105T060000
END:STANDARD
END:VTIMEZONE
BEGIN:VEVENT
DTSTART;TZID=America/New_York:20230925T190000
DTEND;TZID=America/New_York:20230925T200000
DTSTAMP:20260421T083531
CREATED:20230901T012827Z
LAST-MODIFIED:20230901T014234Z
UID:154235-1695668400-1695672000@www.pianyc.net
SUMMARY:Cecilia Molinari\, Mezzosoprano\, and ​Claudio Marino Moretti\, Piano\, at Columbia University
DESCRIPTION:The Teatro Carlo Felice—among Italy’s foremost opera houses—comes to Columbia with a leading mezzo for this performance of Italian music. Registration required. \nPerformers: \nCecilia Molinari\, mezzo-soprano (Photo credit: Alina Fejzo)\n​Claudio Marino Moretti\, pianist \nProgram:\nGioachino Rossini\n“​Nacqui all’affanno” (from La Cenerentola) \nMario Castelnuovo-Tedesco\n​Selections from Shakespeare Songs ​ \n​Giuseppe Martucci\n​La canzone dei ricordi \nReception to follow \nProduction and presentation: Fondazione Teatro Carlo Felice di Genova; Italian Academy\, Columbia University
URL:https://www.pianyc.net/event/cecilia-molinari-mezzosoprano-and-claudio-marino-moretti-piano-at-columbia-university/
LOCATION:Italian Academy for Advanced Studies\, Columbia University\, 1161 Amsterdam Ave\, New York\, NY\, 10027\, United States
CATEGORIES:Live Musical Performance
ATTACH;FMTTYPE=image/jpeg:https://www.pianyc.net/wp-content/uploads/2023/08/Cecilia-Molinari.jpg
GEO:40.8076187;-73.9601672
X-APPLE-STRUCTURED-LOCATION;VALUE=URI;X-ADDRESS=Italian Academy for Advanced Studies Columbia University 1161 Amsterdam Ave New York NY 10027 United States;X-APPLE-RADIUS=500;X-TITLE=1161 Amsterdam Ave:geo:-73.9601672,40.8076187
END:VEVENT
END:VCALENDAR