BEGIN:VCALENDAR
VERSION:2.0
PRODID:-//PIANYC - ECPv5.12.4//NONSGML v1.0//EN
CALSCALE:GREGORIAN
METHOD:PUBLISH
X-WR-CALNAME:PIANYC
X-ORIGINAL-URL:https://www.pianyc.net
X-WR-CALDESC:Events for PIANYC
BEGIN:VTIMEZONE
TZID:America/New_York
BEGIN:DAYLIGHT
TZOFFSETFROM:-0500
TZOFFSETTO:-0400
TZNAME:EDT
DTSTART:20230312T070000
END:DAYLIGHT
BEGIN:STANDARD
TZOFFSETFROM:-0400
TZOFFSETTO:-0500
TZNAME:EST
DTSTART:20231105T060000
END:STANDARD
END:VTIMEZONE
BEGIN:VEVENT
DTSTART;TZID=America/New_York:20230413T200000
DTEND;TZID=America/New_York:20230413T213000
DTSTAMP:20260422T064819
CREATED:20230308T221658Z
LAST-MODIFIED:20230308T221658Z
UID:146487-1681416000-1681421400@www.pianyc.net
SUMMARY:Carnegie Hall Citywide:; Johnathan McCullough\, Baritone; Carol Wong\, Piano at St. Paul & St. Andrew United Methodist Church
DESCRIPTION:Performers\nJohnathan McCullough\, Baritone\nCarol Wong\, Piano \nBaritone Johnathan McCullough and pianist Carol Wong cover an impressive amount of stylistic ground in this free\, hour-long recital. Hear songs by essential 20th-century composers Ralph Vaughn Williams\, Benjamin Britten\, and Amy Beach\, plus music from genre-crossing songwriters and composers working today\, including Glen Hansard\, John Musto\, and Justine Chen. Featuring a little something for everyone\, this musical journey promises to re-introduce audiences to a variety of near-universal experiences and figures through musical storytelling. \nProgram\nVAUGHAN WILLIAMS Songs of Travel\nGLEN HANSARD “Song of Good Hope”\nJOHN MUSTO Selections from The Brief Light\nJUSTINE CHEN “Platform Anxiety” from New York Songs\nTRAD. “Greensleeves” (arr. Britten)\nTRAD. “Foggy\, Foggy Dew” (arr. Britten)\nBEACH “Scottish Legend” Op. 54\, No. 1\nBEACH “The Year’s at the Spring” Op. 44\, No. 1
URL:https://www.pianyc.net/event/carnegie-hall-citywide-johnathan-mccullough-baritone-carol-wong-piano-at-st-paul-st-andrew-united-methodist-church/
LOCATION:The Chapel at the Interchurch Center\, 61 Claremont Ave\, New York\, NY\, 10115\, United States
CATEGORIES:Live Musical Performance
ATTACH;FMTTYPE=image/jpeg:https://carnegiehall.imgix.net:443/-/media/CarnegieHall/Images/Events/2022-2023-CH-Presents/2023-04-13-Citywide-Johnathan-McCullough-Carol-Wong.jpg
GEO:40.7127753;-74.0059728
X-APPLE-STRUCTURED-LOCATION;VALUE=URI;X-ADDRESS=The Chapel at the Interchurch Center 61 Claremont Ave New York NY 10115 United States;X-APPLE-RADIUS=500;X-TITLE=61 Claremont Ave:geo:-74.0059728,40.7127753
END:VEVENT
END:VCALENDAR