BEGIN:VCALENDAR
VERSION:2.0
PRODID:-//PIANYC - ECPv5.12.4//NONSGML v1.0//EN
CALSCALE:GREGORIAN
METHOD:PUBLISH
X-WR-CALNAME:PIANYC
X-ORIGINAL-URL:https://www.pianyc.net
X-WR-CALDESC:Events for PIANYC
BEGIN:VTIMEZONE
TZID:America/New_York
BEGIN:DAYLIGHT
TZOFFSETFROM:-0500
TZOFFSETTO:-0400
TZNAME:EDT
DTSTART:20250309T070000
END:DAYLIGHT
BEGIN:STANDARD
TZOFFSETFROM:-0400
TZOFFSETTO:-0500
TZNAME:EST
DTSTART:20251102T060000
END:STANDARD
END:VTIMEZONE
BEGIN:VEVENT
DTSTART;TZID=America/New_York:20250309T173000
DTEND;TZID=America/New_York:20250309T190000
DTSTAMP:20260421T100719
CREATED:20250111T162445Z
LAST-MODIFIED:20250111T162445Z
UID:176867-1741541400-1741546800@www.pianyc.net
SUMMARY:Canadian Singer/Songwriter/Pianist Laila Biali at Birdland
DESCRIPTION:Multi award-winning Canadian singer-songwriter\, pianist and CBC Music national radio host Laila Biali has headlined festivals and venues spanning five continents from New York City’s Carnegie Hall to Beijing’s National Centre for the Performing Arts\, and supported international icon Sting. Her JUNO-nominated 2023 album\, Your Requests\, featured a stellar cast of guests and received a 4.5 star rave review in All About Jazz. Her previous release\, Out of Dust\, was also JUNO nominated (in 2021) and won Laila spots on “Best Album” lists around the globe. In 2020\, Laila was honoured by SOCAN Music with the Hagood Hardy Award for Excellence in Songwriting.
URL:https://www.pianyc.net/event/canadian-singer-songwriter-pianist-laila-biali-at-birdland/
LOCATION:Birdland\, 315 West 44th Street\, New York\, NY\, 10036\, United States
ATTACH;FMTTYPE=image/jpeg:https://i.ticketweb.com/i/00/12/77/14/13_Original.jpg
GEO:40.759194;-73.9898
X-APPLE-STRUCTURED-LOCATION;VALUE=URI;X-ADDRESS=Birdland 315 West 44th Street New York NY 10036 United States;X-APPLE-RADIUS=500;X-TITLE=315 West 44th Street:geo:-73.9898,40.759194
END:VEVENT
END:VCALENDAR