BEGIN:VCALENDAR
VERSION:2.0
PRODID:-//PIANYC - ECPv5.12.4//NONSGML v1.0//EN
CALSCALE:GREGORIAN
METHOD:PUBLISH
X-WR-CALNAME:PIANYC
X-ORIGINAL-URL:https://www.pianyc.net
X-WR-CALDESC:Events for PIANYC
BEGIN:VTIMEZONE
TZID:America/New_York
BEGIN:DAYLIGHT
TZOFFSETFROM:-0500
TZOFFSETTO:-0400
TZNAME:EDT
DTSTART:20260308T070000
END:DAYLIGHT
BEGIN:STANDARD
TZOFFSETFROM:-0400
TZOFFSETTO:-0500
TZNAME:EST
DTSTART:20261101T060000
END:STANDARD
END:VTIMEZONE
BEGIN:VEVENT
DTSTART;TZID=America/New_York:20260123T180000
DTEND;TZID=America/New_York:20260123T210000
DTSTAMP:20260423T060604
CREATED:20251219T013922Z
LAST-MODIFIED:20251222T230529Z
UID:194246-1769191200-1769202000@www.pianyc.net
SUMMARY:Caelan Cardello Trio at Mezzrow (Early and Late Shows)
DESCRIPTION:Caelan Cardello Trio\nDoors open at 5:30 pm\nLive at Mezzrow\nSets at 6:00PM 7:30PM \nPersonnel\nCaelan Cardello / Piano\nJoseph Ranieri / Bass\nWillie Bowman / Drums \nThis event is recurring on the following dates:\nFri\, Jan 23 at 06:00 PM\nFri\, Jan 23 at 07:30 PM
URL:https://www.pianyc.net/event/caelan-cardello-trio-at-mezzrow-early-and-late-shows-2/
LOCATION:Mezzrow\, 163 W 10th St\, New York\, NY\, 10014\, United States
CATEGORIES:Live Musical Performance
ATTACH;FMTTYPE=image/jpeg:http://smalls_mezzrow_Caelan_Cardello_NEW.jpg
GEO:40.7345655;-74.0019412
X-APPLE-STRUCTURED-LOCATION;VALUE=URI;X-ADDRESS=Mezzrow 163 W 10th St New York NY 10014 United States;X-APPLE-RADIUS=500;X-TITLE=163 W 10th St:geo:-74.0019412,40.7345655
END:VEVENT
END:VCALENDAR