BEGIN:VCALENDAR
VERSION:2.0
PRODID:-//PIANYC - ECPv5.12.4//NONSGML v1.0//EN
CALSCALE:GREGORIAN
METHOD:PUBLISH
X-WR-CALNAME:PIANYC
X-ORIGINAL-URL:https://www.pianyc.net
X-WR-CALDESC:Events for PIANYC
BEGIN:VTIMEZONE
TZID:America/New_York
BEGIN:DAYLIGHT
TZOFFSETFROM:-0500
TZOFFSETTO:-0400
TZNAME:EDT
DTSTART:20230312T070000
END:DAYLIGHT
BEGIN:STANDARD
TZOFFSETFROM:-0400
TZOFFSETTO:-0500
TZNAME:EST
DTSTART:20231105T060000
END:STANDARD
END:VTIMEZONE
BEGIN:VEVENT
DTSTART;TZID=America/New_York:20230720T203000
DTEND;TZID=America/New_York:20230720T203000
DTSTAMP:20260421T064326
CREATED:20230720T160514Z
LAST-MODIFIED:20230720T160514Z
UID:152063-1689885000-1689885000@www.pianyc.net
SUMMARY:Bryan Eng Sextet: "Swingin' Standards" at Birdland
DESCRIPTION:Multi-faceted Broadway actor and acclaimed jazz pianist and singer\, Bryan Eng is one of the most promising and accomplished entertainers of his generation. With a sound and showmanship compared to jazz masters such as Nat King Cole and Harry Connick Jr.\, Eng’s musicality packs a punch of energy that manages to maintain an alluring level of intimacy. \nAt just 24 years old\, Eng has already begun to make big strides across industries in the entertainment scene. His unique talents as an actor and musician have been featured in movies\, TV\,commercials\, and at revered performance venues including Broadway\, the Kennedy Center\, the Lincoln Center\, and Birdland. Additionally\, his ability to compose and arrange music for all styles has led him to musical collaborations with stars such as Heather Headley\, Stephen Colbert\, The American Pops Orchestra\, and regional theaters from coast to coast.
URL:https://www.pianyc.net/event/bryan-eng-sextet-swingin-standards-at-birdland/
LOCATION:Birdland\, 315 West 44th Street\, New York\, NY\, 10036\, United States
CATEGORIES:Live Musical Performance
ATTACH;FMTTYPE=image/jpeg:https://i.ticketweb.com/i/00/12/07/14/18_Original.jpg?v=3
GEO:40.759194;-73.9898
X-APPLE-STRUCTURED-LOCATION;VALUE=URI;X-ADDRESS=Birdland 315 West 44th Street New York NY 10036 United States;X-APPLE-RADIUS=500;X-TITLE=315 West 44th Street:geo:-73.9898,40.759194
END:VEVENT
END:VCALENDAR