BEGIN:VCALENDAR
VERSION:2.0
PRODID:-//PIANYC - ECPv5.12.4//NONSGML v1.0//EN
CALSCALE:GREGORIAN
METHOD:PUBLISH
X-WR-CALNAME:PIANYC
X-ORIGINAL-URL:https://www.pianyc.net
X-WR-CALDESC:Events for PIANYC
BEGIN:VTIMEZONE
TZID:America/New_York
BEGIN:DAYLIGHT
TZOFFSETFROM:-0500
TZOFFSETTO:-0400
TZNAME:EDT
DTSTART:20240310T070000
END:DAYLIGHT
BEGIN:STANDARD
TZOFFSETFROM:-0400
TZOFFSETTO:-0500
TZNAME:EST
DTSTART:20241103T060000
END:STANDARD
END:VTIMEZONE
BEGIN:VEVENT
DTSTART;TZID=America/New_York:20240215T193000
DTEND;TZID=America/New_York:20240215T210000
DTSTAMP:20260420T121510
CREATED:20230413T105327Z
LAST-MODIFIED:20230426T151111Z
UID:147980-1708025400-1708030800@www.pianyc.net
SUMMARY:Bruce Liu\, Rachmaninoff\, and Dvořák NY Phil\, at Lincoln Center
DESCRIPTION:Artists\nSanttu-Matias Rouvali Conductor\nBruce Liu Piano \nProgram\nFarrenc Overture No. 2\nRachmaninoff Rhapsody on a Theme of Paganini\nDvořák Symphony No. 7 \nWinner of the 2021 International Chopin Competition\, Bruce Liu makes his NY Phil debut performing Rachmaninoff’s Rhapsody on a Theme of Paganini\, a sparkling showcase for the piano soloist. Santtu-Matias Rouvali conducts Dvořák’s stormy\, powerful Seventh Symphony and Farrenc’s toe-tapping Second Overture.
URL:https://www.pianyc.net/event/bruce-liu-rachmaninoff-and-dvorak-ny-phil-at-lincoln-center/2024-02-15/
LOCATION:David Geffen Hall at Lincoln Center\, 132 West 65th Street\, New York\, NY\, 10023\, United States
CATEGORIES:Live Musical Performance
ATTACH;FMTTYPE=:
GEO:40.7731303;-73.9830865
X-APPLE-STRUCTURED-LOCATION;VALUE=URI;X-ADDRESS=David Geffen Hall at Lincoln Center 132 West 65th Street New York NY 10023 United States;X-APPLE-RADIUS=500;X-TITLE=132 West 65th Street:geo:-73.9830865,40.7731303
END:VEVENT
END:VCALENDAR