BEGIN:VCALENDAR
VERSION:2.0
PRODID:-//PIANYC - ECPv5.12.4//NONSGML v1.0//EN
CALSCALE:GREGORIAN
METHOD:PUBLISH
X-WR-CALNAME:PIANYC
X-ORIGINAL-URL:https://www.pianyc.net
X-WR-CALDESC:Events for PIANYC
BEGIN:VTIMEZONE
TZID:America/New_York
BEGIN:DAYLIGHT
TZOFFSETFROM:-0500
TZOFFSETTO:-0400
TZNAME:EDT
DTSTART:20230312T070000
END:DAYLIGHT
BEGIN:STANDARD
TZOFFSETFROM:-0400
TZOFFSETTO:-0500
TZNAME:EST
DTSTART:20231105T060000
END:STANDARD
END:VTIMEZONE
BEGIN:VEVENT
DTSTART;TZID=America/New_York:20231127T193000
DTEND;TZID=America/New_York:20231127T203000
DTSTAMP:20260420T083507
CREATED:20231115T024820Z
LAST-MODIFIED:20231115T213707Z
UID:157595-1701113400-1701117000@www.pianyc.net
SUMMARY:Brooklyn Orchestra Performs Philip Glass at Roulette Intermedium
DESCRIPTION:Our program will include the New York Premiere of Philip Glass’s Symphony No. 14 along with his Tirol Concerto for Piano and Orchestra featuring the American pianist Simone Dinnerstein. \nDoors will open at 7:00 PM at Roulette Intermedium\, which is located at 509 Atlantic Avenue\, Brooklyn\, NY 11217. \nConcert will start at 7:30 PM and run until 8:30 PM. Reception to follow.
URL:https://www.pianyc.net/event/brooklyn-orchestra-performs-philip-glass-at-roulette-intermedium/
LOCATION:Roulette Intermedium\, 509 Atlantic Ave.\, Brooklyn\, NY\, 11217\, United States
CATEGORIES:Live Musical Performance
ATTACH;FMTTYPE=image/jpeg:https://img.evbuc.com/https%3A%2F%2Fcdn.evbuc.com%2Fimages%2F636581389%2F1873965511573%2F1%2Foriginal.20231107-041540?w=1000&auto=format%2Ccompress&q=75&sharp=10&rect=0%2C0%2C4320%2C2160&s=b3e6389ac7ab3ae39398418560e7cdc6
GEO:40.6856169;-73.9807735
X-APPLE-STRUCTURED-LOCATION;VALUE=URI;X-ADDRESS=Roulette Intermedium 509 Atlantic Ave. Brooklyn NY 11217 United States;X-APPLE-RADIUS=500;X-TITLE=509 Atlantic Ave.:geo:-73.9807735,40.6856169
END:VEVENT
END:VCALENDAR