BEGIN:VCALENDAR
VERSION:2.0
PRODID:-//PIANYC - ECPv5.12.4//NONSGML v1.0//EN
CALSCALE:GREGORIAN
METHOD:PUBLISH
X-WR-CALNAME:PIANYC
X-ORIGINAL-URL:https://www.pianyc.net
X-WR-CALDESC:Events for PIANYC
BEGIN:VTIMEZONE
TZID:America/New_York
BEGIN:DAYLIGHT
TZOFFSETFROM:-0500
TZOFFSETTO:-0400
TZNAME:EDT
DTSTART:20230312T070000
END:DAYLIGHT
BEGIN:STANDARD
TZOFFSETFROM:-0400
TZOFFSETTO:-0500
TZNAME:EST
DTSTART:20231105T060000
END:STANDARD
END:VTIMEZONE
BEGIN:VEVENT
DTSTART;TZID=America/New_York:20230321T193000
DTEND;TZID=America/New_York:20230321T210000
DTSTAMP:20260420T083059
CREATED:20230130T095638Z
LAST-MODIFIED:20230130T095638Z
UID:144857-1679427000-1679432400@www.pianyc.net
SUMMARY:Boston University Spotlight at Carnegie Hall
DESCRIPTION:Performers\nClara Montes\, Violin\nDahee Park\, Piano\nKevin A. Virgilio\, Tenor Trombone\nRichard Rivale\, Piano\nMargaret Matejcek\, Soprano\nMaria Rabbia\, Piano\nGrace Helmke\, Flute\nHudson Ye Hyung Chung\, Violin\nXueying Fan\, Piano\nJohnny Mok\, Cello\nTianhong Yang\, Piano\nChaeyoung Min\, Piano \nProgram\nWorks by Ravel\, Rachmaninoff\, R. Strauss\, Amanda Harberg\, Saint-Saëns\, Mendelssohn\, Tchaikovsky\, and Kapustin
URL:https://www.pianyc.net/event/boston-university-spotlight-at-carnegie-hall/
LOCATION:Carnegie Hall\, 881 Seventh Avenue\, New York\, NY\, 10019\, United States
CATEGORIES:Live Musical Performance
ATTACH;FMTTYPE=image/jpeg:https://carnegiehall.imgix.net/-/media/CarnegieHall/Images/About/Rentals/Carnegie-Hall-Exterior-at-Night-Updated-21-22.jpg
GEO:40.764938;-73.979897
X-APPLE-STRUCTURED-LOCATION;VALUE=URI;X-ADDRESS=Carnegie Hall 881 Seventh Avenue New York NY 10019 United States;X-APPLE-RADIUS=500;X-TITLE=881 Seventh Avenue:geo:-73.979897,40.764938
END:VEVENT
END:VCALENDAR