BEGIN:VCALENDAR
VERSION:2.0
PRODID:-//PIANYC - ECPv5.12.4//NONSGML v1.0//EN
CALSCALE:GREGORIAN
METHOD:PUBLISH
X-WR-CALNAME:PIANYC
X-ORIGINAL-URL:https://www.pianyc.net
X-WR-CALDESC:Events for PIANYC
BEGIN:VTIMEZONE
TZID:America/New_York
BEGIN:DAYLIGHT
TZOFFSETFROM:-0500
TZOFFSETTO:-0400
TZNAME:EDT
DTSTART:20220313T070000
END:DAYLIGHT
BEGIN:STANDARD
TZOFFSETFROM:-0400
TZOFFSETTO:-0500
TZNAME:EST
DTSTART:20221106T060000
END:STANDARD
END:VTIMEZONE
BEGIN:VEVENT
DTSTART;TZID=America/New_York:20220915T213000
DTEND;TZID=America/New_York:20220915T230000
DTSTAMP:20260420T191434
CREATED:20220805T135710Z
LAST-MODIFIED:20220805T135710Z
UID:133834-1663277400-1663282800@www.pianyc.net
SUMMARY:Bossabrasil ft. Marcos Valle & and Paula Morelenbaum\, at Birdland
DESCRIPTION:Marcos Valle is a legendary composer\, singer\, pianist\, producer and arranger from Brazil\, having worked with all the major stars in his country\, with hits all over the world. He is one of the great remaining Bossa Nova legends of his generation who will bring the beautiful swinging melodies of Bossa and Samba\, along with some of his fusion pop music\, to Birdland. He is delighted to have as his special guest\, also direct from Brazil\, the very talented vocalist\, Paula Morelenbaum\, known for having been in the Antonio Carlos Jobim band and legacy.
URL:https://www.pianyc.net/event/bossabrasil-ft-marcos-valle-and-paula-morelenbaum-at-birdland-6/
LOCATION:Birdland\, 315 West 44th Street\, New York\, NY\, 10036\, United States
CATEGORIES:Live Musical Performance
ATTACH;FMTTYPE=image/jpeg:https://birdlandjazz.com/wp-content/uploads/2022/07/6734_image.jpg
GEO:40.759194;-73.9898
X-APPLE-STRUCTURED-LOCATION;VALUE=URI;X-ADDRESS=Birdland 315 West 44th Street New York NY 10036 United States;X-APPLE-RADIUS=500;X-TITLE=315 West 44th Street:geo:-73.9898,40.759194
END:VEVENT
END:VCALENDAR