BEGIN:VCALENDAR
VERSION:2.0
PRODID:-//PIANYC - ECPv5.12.4//NONSGML v1.0//EN
CALSCALE:GREGORIAN
METHOD:PUBLISH
X-WR-CALNAME:PIANYC
X-ORIGINAL-URL:https://www.pianyc.net
X-WR-CALDESC:Events for PIANYC
BEGIN:VTIMEZONE
TZID:America/New_York
BEGIN:DAYLIGHT
TZOFFSETFROM:-0500
TZOFFSETTO:-0400
TZNAME:EDT
DTSTART:20250309T070000
END:DAYLIGHT
BEGIN:STANDARD
TZOFFSETFROM:-0400
TZOFFSETTO:-0500
TZNAME:EST
DTSTART:20251102T060000
END:STANDARD
END:VTIMEZONE
BEGIN:VEVENT
DTSTART;TZID=America/New_York:20250214T190000
DTEND;TZID=America/New_York:20250214T210000
DTSTAMP:20260421T103235
CREATED:20241222T205351Z
LAST-MODIFIED:20241222T211404Z
UID:175971-1739559600-1739566800@www.pianyc.net
SUMMARY:Blarney Star Concert Series: Diarmuid Ó Meachair + Matt Mulqueen at New York Irish Center
DESCRIPTION:Diarmuid Ó Meachair is a native of the Irish-speaking west Cork gaeltacht who currently teaches music and Irish at Holy Cross University\, He is also a member of the renowned traditional music ensemble De Danann led by fiddler Frankie Gavin. Diarmuid has a particular interest in the lively\, highly ornamented music recorded in the U.S. in the 20th century by John Kimmel\, P.J. Conlon and Joe Derrane\, as well as the sophisticated button accordion stylings of Finbar Dwyer. There is no better exponent of the melodeon and C#/D accordion today. Diarmuid will also sing Irish-language songs from his native Cork and will be accompanied on the piano by Baltimore-based keyboard great Matt Mulqueen.
URL:https://www.pianyc.net/event/blarney-star-concert-series-diarmuid-o-meachair-matt-mulqueen-at-new-york-irish-center/
LOCATION:New York Irish Center\, 1040 Jackson Ave # 3\, Long Island City\, NY\, 11101\, United States
CATEGORIES:Live Musical Performance
ATTACH;FMTTYPE=image/jpeg:https://img.evbuc.com/https%3A%2F%2Fcdn.evbuc.com%2Fimages%2F919206863%2F307202212215%2F1%2Foriginal.20241217-210912?crop=focalpoint&fit=crop&w=1000&auto=format%2Ccompress&q=75&sharp=10&fp-x=5e-11&fp-y=5e-11&s=254a32ba736c6d83a7093e66e48725c3
GEO:40.7420907;-73.9530761
X-APPLE-STRUCTURED-LOCATION;VALUE=URI;X-ADDRESS=New York Irish Center 1040 Jackson Ave # 3 Long Island City NY 11101 United States;X-APPLE-RADIUS=500;X-TITLE=1040 Jackson Ave # 3:geo:-73.9530761,40.7420907
END:VEVENT
END:VCALENDAR