BEGIN:VCALENDAR
VERSION:2.0
PRODID:-//PIANYC - ECPv5.12.4//NONSGML v1.0//EN
CALSCALE:GREGORIAN
METHOD:PUBLISH
X-WR-CALNAME:PIANYC
X-ORIGINAL-URL:https://www.pianyc.net
X-WR-CALDESC:Events for PIANYC
BEGIN:VTIMEZONE
TZID:America/New_York
BEGIN:DAYLIGHT
TZOFFSETFROM:-0500
TZOFFSETTO:-0400
TZNAME:EDT
DTSTART:20240310T070000
END:DAYLIGHT
BEGIN:STANDARD
TZOFFSETFROM:-0400
TZOFFSETTO:-0500
TZNAME:EST
DTSTART:20241103T060000
END:STANDARD
END:VTIMEZONE
BEGIN:VEVENT
DTSTART;TZID=America/New_York:20240926T123000
DTEND;TZID=America/New_York:20240926T140000
DTSTAMP:20260421T081929
CREATED:20240620T020554Z
LAST-MODIFIED:20240620T020554Z
UID:167747-1727353800-1727359200@www.pianyc.net
SUMMARY:Bertha Hope on the Upper Terrace at Bryant Park
DESCRIPTION:Come on down and swing along with the best ragtime\, stride\, and jazz musicians in town. \nJazz pianist Bertha Hope-Booker was born on November 8\, 1936\, to Corinne Meaux and Clinton Rosemond. Raised in western Los Angeles\, California\, Hope-Booker attended Manual Arts High School. As a youth\, she performed in numerous Los Angeles clubs. Hope-Booker studied piano at Los Angeles Community College and later received her B.A. degree in early childhood education from Antioch College.
URL:https://www.pianyc.net/event/bertha-hope-on-the-upper-terrace-at-bryant-park/2024-09-26/
LOCATION:Bryant Park\, Upper Terrace\, 36 W 40th St\, New York\, NY\, 10018\, United States
CATEGORIES:Live Musical Performance
ATTACH;FMTTYPE=image/jpeg:https://www.pianyc.net/wp-content/uploads/2024/05/bryant_park_piano.jpg
GEO:40.7527864;-73.9836149
X-APPLE-STRUCTURED-LOCATION;VALUE=URI;X-ADDRESS=Bryant Park Upper Terrace 36 W 40th St New York NY 10018 United States;X-APPLE-RADIUS=500;X-TITLE=36 W 40th St:geo:-73.9836149,40.7527864
END:VEVENT
END:VCALENDAR