BEGIN:VCALENDAR
VERSION:2.0
PRODID:-//PIANYC - ECPv5.12.4//NONSGML v1.0//EN
CALSCALE:GREGORIAN
METHOD:PUBLISH
X-WR-CALNAME:PIANYC
X-ORIGINAL-URL:https://www.pianyc.net
X-WR-CALDESC:Events for PIANYC
BEGIN:VTIMEZONE
TZID:America/New_York
BEGIN:DAYLIGHT
TZOFFSETFROM:-0500
TZOFFSETTO:-0400
TZNAME:EDT
DTSTART:20240310T070000
END:DAYLIGHT
BEGIN:STANDARD
TZOFFSETFROM:-0400
TZOFFSETTO:-0500
TZNAME:EST
DTSTART:20241103T060000
END:STANDARD
END:VTIMEZONE
BEGIN:VEVENT
DTSTART;TZID=America/New_York:20240727T183000
DTEND;TZID=America/New_York:20240727T210000
DTSTAMP:20260420T052058
CREATED:20240624T021810Z
LAST-MODIFIED:20240706T195547Z
UID:167868-1722105000-1722114000@www.pianyc.net
SUMMARY:Benefit Concert at Bridgehampton Chamber Music Summer Festival
DESCRIPTION:Bach’s concerti are among the most diverse\, moving\, and fascinating works ever created. We’ve collected three of his best (all for multiple instruments) to highlight his immense range and imagination. \nAll-Bach Program\nGaubert\, Piece Romantique for Flute\, Cello and Piano\nMichael Stephen Brown\, “Argument” from Relationship for Clarinet and Violin*\nSchumann\, “Andante” from Piano Quartet in E-flat major\, Op. 47\nBrahms\, “Rondo Zingarese” from Piano Quartet in G minor\, Op. 25 \n*BCM commission \nPerformers\nMarya Martin\, flute\nOsmo Vänska\, clarinet\nErin Keefe\, violin\nMasumi Per Rostad\, viola\nMihai Marica\, cello\nOrion Weiss\, piano \nPerformance duration is approximately one hour and twenty minutes. There is no intermission. \nSince 1984\, Bridgehampton Chamber Music has brought the very best of chamber music to Long Island’s East End. From a pair of concerts over a single weekend\, to a series of concerts over 5 weeks in the summer as well as a series of concerts each spring and fall\, BCM has become one of the country’s most highly regarded chamber music organizations in the country. Each year\, some of the world’s finest chamber musicians gather in Bridgehampton to create unique musical experiences.  \n​BCMF has been lauded for its innovative programming\, and has a long history of commissioning new works.
URL:https://www.pianyc.net/event/benefit-concert-at-bridgehampton-chamber-music/
LOCATION:Atlantic Golf Club\, 1040 Scuttle Hole Rd\, Bridgehampton\, NY\, 11932\, United States
CATEGORIES:Live Musical Performance
ATTACH;FMTTYPE=image/webp:https://www.pianyc.net/wp-content/uploads/2024/06/bcm-benefit.webp
GEO:40.9502122;-72.3385128
X-APPLE-STRUCTURED-LOCATION;VALUE=URI;X-ADDRESS=Atlantic Golf Club 1040 Scuttle Hole Rd Bridgehampton NY 11932 United States;X-APPLE-RADIUS=500;X-TITLE=1040 Scuttle Hole Rd:geo:-72.3385128,40.9502122
END:VEVENT
END:VCALENDAR