BEGIN:VCALENDAR
VERSION:2.0
PRODID:-//PIANYC - ECPv5.12.4//NONSGML v1.0//EN
CALSCALE:GREGORIAN
METHOD:PUBLISH
X-WR-CALNAME:PIANYC
X-ORIGINAL-URL:https://www.pianyc.net
X-WR-CALDESC:Events for PIANYC
BEGIN:VTIMEZONE
TZID:America/New_York
BEGIN:DAYLIGHT
TZOFFSETFROM:-0500
TZOFFSETTO:-0400
TZNAME:EDT
DTSTART:20240310T070000
END:DAYLIGHT
BEGIN:STANDARD
TZOFFSETFROM:-0400
TZOFFSETTO:-0500
TZNAME:EST
DTSTART:20241103T060000
END:STANDARD
END:VTIMEZONE
BEGIN:VEVENT
DTSTART;TZID=America/New_York:20240313T193000
DTEND;TZID=America/New_York:20240313T210000
DTSTAMP:20260421T063527
CREATED:20230329T211755Z
LAST-MODIFIED:20230329T211755Z
UID:147978-1710358200-1710363600@www.pianyc.net
SUMMARY:Beethoven’s Fifth\, Mozart\, and Conrad Tao\, at Lincoln Center
DESCRIPTION:Performers\nJaap van Zweden Conductor\nConrad Tao Piano \nProgram\nFe. Mendelssohn String Symphony No. 13\,\nMozart Piano Concerto No. 17\nBeethoven Symphony No. 5 \n 
URL:https://www.pianyc.net/event/beethovens-fifth-mozart-and-conrad-tao-at-lincoln-center/
LOCATION:David Geffen Hall at Lincoln Center\, 132 West 65th Street\, New York\, NY\, 10023\, United States
CATEGORIES:Live Musical Performance
ATTACH;FMTTYPE=image/jpeg:https://res.cloudinary.com/nyphil/image/upload/f_auto,q_auto/v1676570335/images/concerts-tickets/calendar/2324/_E4A0549edit.jpg
GEO:40.7731303;-73.9830865
X-APPLE-STRUCTURED-LOCATION;VALUE=URI;X-ADDRESS=David Geffen Hall at Lincoln Center 132 West 65th Street New York NY 10023 United States;X-APPLE-RADIUS=500;X-TITLE=132 West 65th Street:geo:-73.9830865,40.7731303
END:VEVENT
END:VCALENDAR