BEGIN:VCALENDAR
VERSION:2.0
PRODID:-//PIANYC - ECPv5.12.4//NONSGML v1.0//EN
CALSCALE:GREGORIAN
METHOD:PUBLISH
X-WR-CALNAME:PIANYC
X-ORIGINAL-URL:https://www.pianyc.net
X-WR-CALDESC:Events for PIANYC
BEGIN:VTIMEZONE
TZID:America/New_York
BEGIN:DAYLIGHT
TZOFFSETFROM:-0500
TZOFFSETTO:-0400
TZNAME:EDT
DTSTART:20250309T070000
END:DAYLIGHT
BEGIN:STANDARD
TZOFFSETFROM:-0400
TZOFFSETTO:-0500
TZNAME:EST
DTSTART:20251102T060000
END:STANDARD
END:VTIMEZONE
BEGIN:VEVENT
DTSTART;TZID=America/New_York:20251112T200000
DTEND;TZID=America/New_York:20251112T213000
DTSTAMP:20260419T110327
CREATED:20250621T212851Z
LAST-MODIFIED:20250622T120014Z
UID:182122-1762977600-1762983000@www.pianyc.net
SUMMARY:Beatrice Rana Solo Recital at Carnegie Hall
DESCRIPTION:Performer\nBeatrice Rana\, Piano \nBeatrice Rana is “an artist of truly reflective grace … combining poetry and great skill\, among the most gifted musicians of her generation” (Gramophone). In her 2022 Carnegie Hall recital\, Rana performed Book I of Debussy’s famously demanding etudes “with wonderful intelligence and musicianship (and\, of course\, that gold-plated technique)” (The New Criterion). Tonight’s program includes Book II\, six more pieces that\, according to Debussy\, underscore “the fact that the portals of music can only be opened with formidable hands.” Among other highlights\, the recital also includes Prokofiev’s arresting Piano Sonata No. 6\, which Rana has performed to considerable acclaim\, and selections from Prokofiev’s Romeo and Juliet and Tchaikovsky’s The Nutcracker. \nProgram\nPROKOFIEV Selections from Ten Pieces from Romeo and Juliet\, Op. 75\nDEBUSSY Etudes\, Book II\nTCHAIKOVSKY Selections from The Nutcracker (arr. Mikhail Pletnev)\nPROKOFIEV Piano Sonata No. 6 in A Major\, Op. 82
URL:https://www.pianyc.net/event/beatrice-rana-solo-recital-at-carnegie-hall/
LOCATION:Carnegie Hall\, 881 Seventh Avenue\, New York\, NY\, 10019\, United States
CATEGORIES:Live Musical Performance
ATTACH;FMTTYPE=image/jpeg:https://carnegiehall.imgix.net:443/-/media/CarnegieHall/Images/Events/2025-2026-CH-Presents/2025-11-12-Beatrice-Rana.jpg
GEO:40.764938;-73.979897
X-APPLE-STRUCTURED-LOCATION;VALUE=URI;X-ADDRESS=Carnegie Hall 881 Seventh Avenue New York NY 10019 United States;X-APPLE-RADIUS=500;X-TITLE=881 Seventh Avenue:geo:-73.979897,40.764938
END:VEVENT
END:VCALENDAR