BEGIN:VCALENDAR
VERSION:2.0
PRODID:-//PIANYC - ECPv5.12.4//NONSGML v1.0//EN
CALSCALE:GREGORIAN
METHOD:PUBLISH
X-WR-CALNAME:PIANYC
X-ORIGINAL-URL:https://www.pianyc.net
X-WR-CALDESC:Events for PIANYC
BEGIN:VTIMEZONE
TZID:America/New_York
BEGIN:DAYLIGHT
TZOFFSETFROM:-0500
TZOFFSETTO:-0400
TZNAME:EDT
DTSTART:20240310T070000
END:DAYLIGHT
BEGIN:STANDARD
TZOFFSETFROM:-0400
TZOFFSETTO:-0500
TZNAME:EST
DTSTART:20241103T060000
END:STANDARD
END:VTIMEZONE
BEGIN:VEVENT
DTSTART;TZID=America/New_York:20240604T193000
DTEND;TZID=America/New_York:20240604T210000
DTSTAMP:20260422T064454
CREATED:20240427T215001Z
LAST-MODIFIED:20240428T154101Z
UID:163218-1717529400-1717534800@www.pianyc.net
SUMMARY:Bálint Karosi Organ Recital at Saint Peter's Church
DESCRIPTION:Dr. Balint Karosi will present\, on June 4\, 2023\, his first organ recital since coming to Saint Peter’s in 2016. Karosi\, known for his improvisations and compositions\, is a renowned interpreter of J. S. Bach. It was the work of Karosi and David Pike that brought to fruition the total-tonal redesign of the Klais organ by C.B. Fisk\, presented in November 2023 for an Inauguration Weekend. This recital will feature the best combinations of the organ in works by Weckmann\, J. S. Bach\, Nishimura\, Jongen\, and Karosi. \nA reception with hors d’oeuvres will be given after the performance. \nProgram \n“Es ist das Heil uns kommen her”\nVersus I\nVersus III\nVersus IV\nVersus V \nMatthias Weckmann\, 1616-1674 \nTrio Sonata No. 1 in D Minor BWV 527\nAndante\nAdagio e dolce\nVivace \nJohann Sebastian Bach\, 1685-1750 \nPrelude and Fugue No. 2 in A Minor on B-A-C-H\nImprovisation on a Chorale \nBalint Karosi\, b. 1979 \nToccata Adagio and Fugue BWV 564 \nJ.S. Bach \nPrelude “Vision in Flames” \nAkira Nishimura\, 1953-2023 \nSonata Eroica Op. 94 \nJoseph Jongen\, 1873-1953 \nAbout Dr. Bálint Karosi  \nBálint Karosi serves as Director of Music\, Classical at Saint Peter’s. \nCommended as “a most impressive musical interpreter\,” (Dr. Christoph Wolff\, the Boston Musical Intelligencer) and for his virtuosity “[He] inspired awe with the work’s marvelous scalar passages and fiery finish…” (The Diapason)\, Bálint Karosi earned a reputation for his expressive command of a wide range of repertoire that is guided by historical performance practice and a remarkably multi-faceted musicianship enriched by his experiences as a composer\, conductor\, church musician\, and clarinetist. \nSince winning the International Bach Competition in Leipzig in 2008\, Dr. Karosi has been recognized as one of the leading interpreters of the music of J. S. Bach worldwide. He is one of few organists in North America to improvise regularly in recitals in authentic Baroque Style\, which is informed by his research in Baroque improvisation techniques of the 17th and 18th centuries. He has five recorded albums that have been received with critical acclaim ” [Balint Karosi] plays with self-understood naturalness\, without trying to emphasize a sacred pathos.” (Gramafon\, Hungary\, 2015). \nDr. Karosi has had an active career as a solo organ recitalist. In the summer of 2020\, his upcoming engagements include concerts in Denmark\, Sweden\, Germany\, Romania and Hungary. He has given solo organ concerts in concert halls in Budapest\, Leipzig\, Osaka\, Yokohama in Geneva\, and on some of the most significant historic organs in Lübeck\, Leipzig\, Norden\, Leer\, Paris\, Freiberg\, Merseburg\, Naumburg\, among others. \nHis six volumes of organ music\, published by Wayne Leupold Editions\, include his Organ Book No. 1 (2017)\, conceived for historic organs\, and works in a more symphonic idiom\, often drawing inspiration from Hungarian music as in his Symphony on a Chorale by Béla Bartók (2012). His Toccata in memory of Béla Bartók (2007) is the compulsory piece for the finals of the 2020 National Young Artist Competition in Organ Playing at the AGO National Convention in Atlanta. \nAs an active composer\, he has received commissions from the Budapest Philharmonic Orchestra\, the Boston Modern Orchestra Project\, Philharmonia Baroque Orchestra\, the Hungarian State Opera House\, and Spectrum Symphony of New York. His one act opera\, “Lonely Hearts\,” won the “Most Dramatic Opera” award and audience vote at the 2020 Contemporary Opera Showcase at the Hungarian State Opera. Existentia\, his critically acclaimed album featuring original compositions for orchestra was released in 2019 on the Hungaroton label. Of his Triple Concerto for Guitar\, Cimbalom and Harp\, Records International wrote in 2019: “the soloists\, joined by others within the ensemble\, emerge to play beautiful\, exotically tinged melodies\, like tellers of ancient tales.” \nDr. Karosi is the recipient a number of first prizes in organ competitions\, including the J. S. Bach competition in Leipzig\, the International Organ Competition in Miami\, and the Dublin International Organ competition that he won at age 22. He holds degrees from Yale University\, the Oberlin Conservatory\, the Liszt Academy and the Conservatoire de Genève. \nHe is represented in North America and Canada by Phillip Truckenbrod Concert Artists\, Inc.
URL:https://www.pianyc.net/event/balint-karosi-organ-recital-at-saint-peters-church/
LOCATION:Saint Peter’s Church\, 619 Lexington Avenue\, New York\, NY\, 10022\, United States
CATEGORIES:Live Musical Performance
ATTACH;FMTTYPE=image/jpeg:https://img.evbuc.com/https%3A%2F%2Fcdn.evbuc.com%2Fimages%2F751477359%2F181870069803%2F1%2Foriginal.20240424-163544?w=1000&auto=format%2Ccompress&q=75&sharp=10&rect=0%2C512%2C4000%2C2000&s=d62807cfb82066a01af48a0fb7ec1cfc
GEO:40.7585654;-73.9703834
X-APPLE-STRUCTURED-LOCATION;VALUE=URI;X-ADDRESS=Saint Peter’s Church 619 Lexington Avenue New York NY 10022 United States;X-APPLE-RADIUS=500;X-TITLE=619 Lexington Avenue:geo:-73.9703834,40.7585654
END:VEVENT
END:VCALENDAR