BEGIN:VCALENDAR
VERSION:2.0
PRODID:-//PIANYC - ECPv5.12.4//NONSGML v1.0//EN
CALSCALE:GREGORIAN
METHOD:PUBLISH
X-WR-CALNAME:PIANYC
X-ORIGINAL-URL:https://www.pianyc.net
X-WR-CALDESC:Events for PIANYC
BEGIN:VTIMEZONE
TZID:America/New_York
BEGIN:DAYLIGHT
TZOFFSETFROM:-0500
TZOFFSETTO:-0400
TZNAME:EDT
DTSTART:20250309T070000
END:DAYLIGHT
BEGIN:STANDARD
TZOFFSETFROM:-0400
TZOFFSETTO:-0500
TZNAME:EST
DTSTART:20251102T060000
END:STANDARD
END:VTIMEZONE
BEGIN:VEVENT
DTSTART;TZID=America/New_York:20251011T140000
DTEND;TZID=America/New_York:20251011T153000
DTSTAMP:20260423T172516
CREATED:20250824T014930Z
LAST-MODIFIED:20250901T150929Z
UID:186298-1760191200-1760196600@www.pianyc.net
SUMMARY:Bach\, Well-Tempered Clavier\, Book 2 Part 1 With Christopher O’Riley\, at Bargemusic
DESCRIPTION:Bach\, Well-Tempered Clavier\, Book 2 \nPart 1 \nChristopher O’Riley\, piano \nFull concert calendar
URL:https://www.pianyc.net/event/bach-well-tempered-clavier-book-2-part-1-with-christopher-oriley-at-bargemusic/
LOCATION:Bargemusic\, 1 Water St.\, Brooklyn\, NY\, 11201\, United States
CATEGORIES:Live Musical Performance
ATTACH;FMTTYPE=image/jpeg:https://christopheroriley.com/wp-content/uploads/2020/11/JW-Christopher-ORiley-3.jpg
GEO:40.703195;-73.9947228
X-APPLE-STRUCTURED-LOCATION;VALUE=URI;X-ADDRESS=Bargemusic 1 Water St. Brooklyn NY 11201 United States;X-APPLE-RADIUS=500;X-TITLE=1 Water St.:geo:-73.9947228,40.703195
END:VEVENT
END:VCALENDAR