BEGIN:VCALENDAR
VERSION:2.0
PRODID:-//PIANYC - ECPv5.12.4//NONSGML v1.0//EN
CALSCALE:GREGORIAN
METHOD:PUBLISH
X-WR-CALNAME:PIANYC
X-ORIGINAL-URL:https://www.pianyc.net
X-WR-CALDESC:Events for PIANYC
BEGIN:VTIMEZONE
TZID:America/New_York
BEGIN:DAYLIGHT
TZOFFSETFROM:-0500
TZOFFSETTO:-0400
TZNAME:EDT
DTSTART:20240310T070000
END:DAYLIGHT
BEGIN:STANDARD
TZOFFSETFROM:-0400
TZOFFSETTO:-0500
TZNAME:EST
DTSTART:20241103T060000
END:STANDARD
END:VTIMEZONE
BEGIN:VEVENT
DTSTART;TZID=America/New_York:20240530T180000
DTEND;TZID=America/New_York:20240530T193000
DTSTAMP:20260420T121409
CREATED:20240525T130039Z
LAST-MODIFIED:20240525T130039Z
UID:166452-1717092000-1717097400@www.pianyc.net
SUMMARY:Axel Quincke Solo Recital at Consulate General of Argentina
DESCRIPTION:Axel Quincke is an Argentine pianist\, composer\, environmental lawyer and producer. Although his greatest influence is classical music\, he gives concerts in which\, in addition to this style\, he plays his own improvisations and arrangements on other music genres\, such as experimental music\, jazz\, Argentinian folklore\, tango\, RB & B\, blues and rock among others. \nThe program includes a repertoire of Rachmaninoff\, Scriabin\, Chopin\, Piazzola\, Bach \nPlease note: \nUnfortunately this building does not have an elevator service and the event will take place on the first floor.
URL:https://www.pianyc.net/event/axel-quincke-solo-recital-at-consulate-general-of-argentina/
LOCATION:Consulate General of Argentina\, 12 West 56th St\, New York\, NY\, 10019\, United States
CATEGORIES:Live Musical Performance
ATTACH;FMTTYPE=image/jpeg:https://img.evbuc.com/https%3A%2F%2Fcdn.evbuc.com%2Fimages%2F753472669%2F788802050733%2F1%2Foriginal.20240426-201701?w=1000&auto=format%2Ccompress&q=75&sharp=10&s=7934909a8d85d7a2d54ee19b35c43cfa
GEO:40.7625677;-73.9755253
X-APPLE-STRUCTURED-LOCATION;VALUE=URI;X-ADDRESS=Consulate General of Argentina 12 West 56th St New York NY 10019 United States;X-APPLE-RADIUS=500;X-TITLE=12 West 56th St:geo:-73.9755253,40.7625677
END:VEVENT
END:VCALENDAR