BEGIN:VCALENDAR
VERSION:2.0
PRODID:-//PIANYC - ECPv5.12.4//NONSGML v1.0//EN
CALSCALE:GREGORIAN
METHOD:PUBLISH
X-WR-CALNAME:PIANYC
X-ORIGINAL-URL:https://www.pianyc.net
X-WR-CALDESC:Events for PIANYC
BEGIN:VTIMEZONE
TZID:America/New_York
BEGIN:DAYLIGHT
TZOFFSETFROM:-0500
TZOFFSETTO:-0400
TZNAME:EDT
DTSTART:20240310T070000
END:DAYLIGHT
BEGIN:STANDARD
TZOFFSETFROM:-0400
TZOFFSETTO:-0500
TZNAME:EST
DTSTART:20241103T060000
END:STANDARD
END:VTIMEZONE
BEGIN:VEVENT
DTSTART;TZID=America/New_York:20241221T160000
DTEND;TZID=America/New_York:20241221T180000
DTSTAMP:20260420T110240
CREATED:20241213T024752Z
LAST-MODIFIED:20241213T024752Z
UID:175256-1734796800-1734804000@www.pianyc.net
SUMMARY:Augustus Arnone Performs Works of Michael Finnissy and J.S. Bach at Greenwich House Music School
DESCRIPTION:On Saturday\, December 21\, 2024\, @4:00PM\, Augustus Arnone continues his traversal of Michael Finnissy’s complete “The History Of Photography In Sound” paired with J.S. Bach’s complete Well-Tempered Clavier\, Book II\, with the second in a series of 6 concerts. \nThis concert features Finnissy’s “North American Spirituals”(1998)\, as well as “Brahms Lieder” (2016)\, which is not from the “History Of Photography In Sound” cycle but was composed for Augustus Arnone\, after the composer heard Arnone’s first traversal of the complete cycle in 2015-2016. The program also features 4 Preludes and Fugues from J.S. Bach’s Well-Tempered Clavier\, Book II: D Major\, D Minor\, E Flat Major\, D Sharp Minor. \nThe concert will be held at the Renee Weiler Recital Hall\, at Greenwich House Music School\, 46 Barrow St.\, New York City. Tickets are $20.
URL:https://www.pianyc.net/event/augustus-arnone-performs-works-of-michael-finnissy-and-j-s-bach-at-greenwich-house-music-school/
LOCATION:Greenwich House Music School\, 46 Barrow Street\, New York\, NY\, 10014\, United States
CATEGORIES:Live Musical Performance
ATTACH;FMTTYPE=image/jpeg:https://img.evbuc.com/https%3A%2F%2Fcdn.evbuc.com%2Fimages%2F910956553%2F149482784753%2F1%2Foriginal.20241203-202229?crop=focalpoint&fit=crop&w=1000&auto=format%2Ccompress&q=75&sharp=10&fp-x=0.5&fp-y=0.5&s=0081651b2317699c735c4d23bdc399a2
GEO:40.7321768;-74.0045311
X-APPLE-STRUCTURED-LOCATION;VALUE=URI;X-ADDRESS=Greenwich House Music School 46 Barrow Street New York NY 10014 United States;X-APPLE-RADIUS=500;X-TITLE=46 Barrow Street:geo:-74.0045311,40.7321768
END:VEVENT
END:VCALENDAR