BEGIN:VCALENDAR
VERSION:2.0
PRODID:-//PIANYC - ECPv5.12.4//NONSGML v1.0//EN
CALSCALE:GREGORIAN
METHOD:PUBLISH
X-WR-CALNAME:PIANYC
X-ORIGINAL-URL:https://www.pianyc.net
X-WR-CALDESC:Events for PIANYC
BEGIN:VTIMEZONE
TZID:America/New_York
BEGIN:DAYLIGHT
TZOFFSETFROM:-0500
TZOFFSETTO:-0400
TZNAME:EDT
DTSTART:20250309T070000
END:DAYLIGHT
BEGIN:STANDARD
TZOFFSETFROM:-0400
TZOFFSETTO:-0500
TZNAME:EST
DTSTART:20251102T060000
END:STANDARD
END:VTIMEZONE
BEGIN:VEVENT
DTSTART;TZID=America/New_York:20250325T200000
DTEND;TZID=America/New_York:20250325T230000
DTSTAMP:20260421T120914
CREATED:20241117T183602Z
LAST-MODIFIED:20241213T020846Z
UID:174766-1742932800-1742943600@www.pianyc.net
SUMMARY:Astrid Sonne\, Tarta Relena\, Jules Reidy at Pioneer Works
DESCRIPTION:Pioneer Works is excited to present a lineup of ecstatic new music that explores forms of pop\, experimentalism and minimalism\, featuring Astrid Sonne\, Tarta Relena & Jules Reidy. \nAstrid Sonne  \nAstrid Sonne is a Danish\, London based composer and viola player. Throughout her\nacclaimed discography\, Astrid Sonne has been carefully crafting different moods through electronic and acoustic instrumental endeavors. \nOn her most recent album “Great Doubt” (January 2024) this skill is refined\, now with the distinct addition of the composer’s own vocal in the fore. The tone of each track is unmistakably Sonne’s\, structured around contrasts through an impeccable sense of timing. Lyrics on the album are sparse\, merely highlighting different scenes or emotional states of being\, leaving the music to fill in the blanks. Yet they also form a pattern of ambiguity\, consolidated through the album title\, searching for answers through looking at how and what you are asking\, questions for the world\, questions of love. \nThe viola\, a trusted companion since Astrid Sonne’s youth\, appears effortlessly throughout the album\, fully integrated into the sonic universe; through a pizzicato driven arrangement in the poignant track “Almost” or along with booms and claps in mutated cinematic stabs during “Give my all”\, paraphrasing Mariah Carey’s 1997 ballad. Yet the string section also gives way to explorations of woodwinds\, counterbalancing the bowed movements with digital brass and airy flutes. Finally\, beats and detuned piano are fresh additions to the soundscape\, cementing how Sonne’s practice is always evolving into new territories. \nTarta Relena \nThe project was born in 2016 by two singers who explore a cappella the sounds of the different styles in vocal music. Tarta Relena wants to build a repertoire that goes from traditional music to original songs that are related to the geographical area of ​​the Mediterranean. They do not fear to widen the limits of the sacred and the profane. Experimentation is the core of their identity\, and the blend of vocal techniques is their creative engine. In the arrangements\, the two very different timbres live together with the synthetic sounds and electronic samples. Always looking for complexity in simplicity and maximum expression with the minimum of elements. \nTarta Relena presents a new album that flirts with the notion of tragic thinking: diverse characters who find themselves facing unstoppable consequences\, known and unknown at the same time. A conceptual mix of what fate has ready for us\, our thirst for knowledge and the inability to integrate future versions of ourselves. They try to capture in music and lyrics the tension and mystery of what we do not understand\, coming from logics that escape our usual ways of existing. \nMarta Torrella\, voice and electronics\nHelena Ros\, voice and electronics \nJules Reidy \nJules Reidy makes music for processed and acoustic instruments (mostly guitars). Their recent work can be described as a series of non-traditional song forms which combine unstable harmonic territories\, rhythmic elasticity and abstract narrative over stretched and episodic forms. Their recent records include In Real Life (Black Truffle\, 2019)\, Vanish (Editions Mego\, 2020) and World in World (Black Truffle\, 2022)\, Their newest solo record Trances is set to be released via Shelter Press in October 2023. Notable performances in the last couple of years include the Tectonics Festival (Athens\, Greece)\, Send/Receive Festival (Winnipeg\, Canada)\, Berlin Jazz Festival (Berlin\, Germany) and Angelica Festival (Bologna\, Italy). For 2023\, Rewire Festival (Den Haag\, NL)\, Stanser Musiktage (Stans\, CH) End of the Road Festival (UK)\, as well as shows at Elbphilharmonie (Hamburg) and Jazz em Agosto Festival (Lisbon\, PT) have been confirmed. ‘Properly singular material that fuses Reidy’s immense knowledge of American primitive folk music with microtonal experimentalism and abstract pop vocalizing. Decidedly uncool\, and all the better for it – RIYL Bill Nace\, Heather Leigh or Teresa Winter.’ – Boomkat\, 2022
URL:https://www.pianyc.net/event/astrid-sonne-tarta-relena-jules-reidy-at-pioneer-works/
LOCATION:Pioneer Works\, 159 Pioneer Street\, Brooklyn\, NY\, 11231\, United States
CATEGORIES:Live Musical Performance
ATTACH;FMTTYPE=image/jpeg:https://img.evbuc.com/https%3A%2F%2Fcdn.evbuc.com%2Fimages%2F895496793%2F310429297786%2F1%2Foriginal.20241109-175835?crop=focalpoint&fit=crop&w=1000&auto=format%2Ccompress&q=75&sharp=10&fp-x=0.470555809002&fp-y=0.424124513619&s=b0d4269d1b5c257527fb65b9f7b88672
GEO:40.6792483;-74.012154
X-APPLE-STRUCTURED-LOCATION;VALUE=URI;X-ADDRESS=Pioneer Works 159 Pioneer Street Brooklyn NY 11231 United States;X-APPLE-RADIUS=500;X-TITLE=159 Pioneer Street:geo:-74.012154,40.6792483
END:VEVENT
END:VCALENDAR