BEGIN:VCALENDAR
VERSION:2.0
PRODID:-//PIANYC - ECPv5.12.4//NONSGML v1.0//EN
CALSCALE:GREGORIAN
METHOD:PUBLISH
X-WR-CALNAME:PIANYC
X-ORIGINAL-URL:https://www.pianyc.net
X-WR-CALDESC:Events for PIANYC
BEGIN:VTIMEZONE
TZID:America/New_York
BEGIN:DAYLIGHT
TZOFFSETFROM:-0500
TZOFFSETTO:-0400
TZNAME:EDT
DTSTART:20230312T070000
END:DAYLIGHT
BEGIN:STANDARD
TZOFFSETFROM:-0400
TZOFFSETTO:-0500
TZNAME:EST
DTSTART:20231105T060000
END:STANDARD
END:VTIMEZONE
BEGIN:VEVENT
DTSTART;TZID=America/New_York:20231011T200000
DTEND;TZID=America/New_York:20231011T213000
DTSTAMP:20260420T070404
CREATED:20230918T202739Z
LAST-MODIFIED:20230918T202739Z
UID:154967-1697054400-1697059800@www.pianyc.net
SUMMARY:Aryan Palla\, Piano; Santi Simonian\, Guitar; Ella Shaham\, Violin; Stephanie Lee\, Viola at Carnegie Hall
DESCRIPTION:Performers\nAryan Palla\, Piano\nSanti Simonian\, Guitar\nElla Shaham\, Violin\nStephanie Lee\, Viola \nHigh school musicians from New York City host a concert showcasing violin\, viola\, piano\, and classical guitar music ranging from the Baroque to Modern periods. The musicians will explore pieces by Mozart\, Bach\, Chopin\, Liszt\, Carcassi\, and Pujol. This concert is being held to raise awareness and funds for Street Child\, which works to bring education and aid to children living in low-resource and war-stricken environments around the world. \nProgram\nWorks by Mozart\, Bach\, Chopin\, Liszt\, Carcassi\, and Pujol
URL:https://www.pianyc.net/event/aryan-palla-piano-santi-simonian-guitar-ella-shaham-violin-stephanie-lee-viola-at-carnegie-hall/
LOCATION:Carnegie Hall\, 881 Seventh Avenue\, New York\, NY\, 10019\, United States
CATEGORIES:Live Musical Performance
ATTACH;FMTTYPE=image/jpeg:https://carnegiehall.imgix.net:443/-/media/CarnegieHall/Images/Events/2023-2024-Rentals/palla.jpg
GEO:40.764938;-73.979897
X-APPLE-STRUCTURED-LOCATION;VALUE=URI;X-ADDRESS=Carnegie Hall 881 Seventh Avenue New York NY 10019 United States;X-APPLE-RADIUS=500;X-TITLE=881 Seventh Avenue:geo:-73.979897,40.764938
END:VEVENT
END:VCALENDAR