BEGIN:VCALENDAR
VERSION:2.0
PRODID:-//PIANYC - ECPv5.12.4//NONSGML v1.0//EN
CALSCALE:GREGORIAN
METHOD:PUBLISH
X-WR-CALNAME:PIANYC
X-ORIGINAL-URL:https://www.pianyc.net
X-WR-CALDESC:Events for PIANYC
BEGIN:VTIMEZONE
TZID:America/New_York
BEGIN:DAYLIGHT
TZOFFSETFROM:-0500
TZOFFSETTO:-0400
TZNAME:EDT
DTSTART:20240310T070000
END:DAYLIGHT
BEGIN:STANDARD
TZOFFSETFROM:-0400
TZOFFSETTO:-0500
TZNAME:EST
DTSTART:20241103T060000
END:STANDARD
END:VTIMEZONE
BEGIN:VEVENT
DTSTART;TZID=America/New_York:20241215T163000
DTEND;TZID=America/New_York:20241215T193000
DTSTAMP:20260419T101429
CREATED:20241213T023334Z
LAST-MODIFIED:20241213T023334Z
UID:175248-1734280200-1734291000@www.pianyc.net
SUMMARY:Art Song for Soprano Voice and Piano in Dumbo Brooklyn
DESCRIPTION:Pianist Huizi Zhang & Soprano Anna Elder perform classic works featuring Schoenberg’s Cabaret Songs & Debussy’s Ariette Oubliées. \nJoin for an afternoon of exquisite art song for soprano voice and piano featuring Schoenberg’s Cabaret Songs\, Debussy’s Ariette Oubliées\, & a holiday sing-a-long. We will have drinks\, holiday treats\, and conversation. You are welcome to bring your own snacks and beverages. See the full program below: \nArnold Schoenberg\, Brettl-Lieder (Cabaret Songs) \nClaude Debussy\, Ariette Oubliées \nAdolphe Adam\, Cantique de Noël (O Holy Night) \nHoliday Carol Sing-A-Long (Carol Books Provided)
URL:https://www.pianyc.net/event/art-song-for-soprano-voice-and-piano-in-dumbo-brooklyn/
LOCATION:30 Main Street\, Brooklyn\, 30 Main Street\, Brooklyn\, NY\, 11201\, United States
CATEGORIES:Live Musical Performance
ATTACH;FMTTYPE=image/jpeg:https://img.evbuc.com/https%3A%2F%2Fcdn.evbuc.com%2Fimages%2F907105673%2F249387665609%2F1%2Foriginal.20241126-211155?crop=focalpoint&fit=crop&w=1000&auto=format%2Ccompress&q=75&sharp=10&fp-x=0.470643939394&fp-y=0.0398671096346&s=fa826f94d9b01bb46c01583402ab19b7
GEO:40.702988;-73.9907803
X-APPLE-STRUCTURED-LOCATION;VALUE=URI;X-ADDRESS=30 Main Street Brooklyn 30 Main Street Brooklyn NY 11201 United States;X-APPLE-RADIUS=500;X-TITLE=30 Main Street:geo:-73.9907803,40.702988
END:VEVENT
END:VCALENDAR