BEGIN:VCALENDAR
VERSION:2.0
PRODID:-//PIANYC - ECPv5.12.4//NONSGML v1.0//EN
CALSCALE:GREGORIAN
METHOD:PUBLISH
X-WR-CALNAME:PIANYC
X-ORIGINAL-URL:https://www.pianyc.net
X-WR-CALDESC:Events for PIANYC
BEGIN:VTIMEZONE
TZID:America/New_York
BEGIN:DAYLIGHT
TZOFFSETFROM:-0500
TZOFFSETTO:-0400
TZNAME:EDT
DTSTART:20230312T070000
END:DAYLIGHT
BEGIN:STANDARD
TZOFFSETFROM:-0400
TZOFFSETTO:-0500
TZNAME:EST
DTSTART:20231105T060000
END:STANDARD
END:VTIMEZONE
BEGIN:VEVENT
DTSTART;TZID=America/New_York:20231129T210000
DTEND;TZID=America/New_York:20231129T230000
DTSTAMP:20260423T073940
CREATED:20231115T024818Z
LAST-MODIFIED:20231115T213744Z
UID:157593-1701291600-1701298800@www.pianyc.net
SUMMARY:Art of the Art Song at DROM
DESCRIPTION:On Wednesday\, November 29th at 9pm\, Composers Concordance presents at DROM a concert program propelling an age-old compositional form into the 21st Century. The Art of the Art Song features soprano Ljiljana Winkler\, of the German group Formation Solenne\, as she interprets songs from a bevy of today’s most dynamic composers\, writing under the influence of numerous contemporary styles and texts. \nLjiljana joins CompCord Ensemble: trumpeter Peter Oswald\, tenor saxophonist Dennis Brandner\, pianist Jai Jeffryes\, bassist Troy Rinker\, Jr.\, and drummer Lee Jeffryes on a program of art songs composed by Aaron Alter\, Dennis Bathory-Kitsz\, Seth Boustead\, Vicky Cheng\, Dan Cooper\, Melanie Mitrano\, Amy X Neuburg\, Gene Pritsker\, Emiliano Revert\, Marina Vesic\, and Joseph Waters. \nMelanie Mitrano’s Hocket Two Me\, Gene Pritsker’s Scatalism\, Emiliano Revert’s Bond\, Joseph Waters’ Again\, and Dennis Bathory-Kitsz’s Binsey Poplars are among the featured compositions. \nComposers: \nAaron Alter\, Dennis Bathory-Kitsz\, Seth Boustead\, Vicky Cheng\, Dan Cooper\, Melanie Mitrano\, Amy X Neuburg\, Gene Pritsker\, Emiliano Revert\, Marina Vesic\, Joseph Waters \nPerformers: \nLjiljana Winkler – soprano \nCompCord Ensemble: \nPeter Oswald – trumpet\, Dennis Brandner – tenor saxophone\, Jai Jeffryes – piano\, \nTroy Rinker\, Jr. – contrabass\, Lee Jeffryes – drums
URL:https://www.pianyc.net/event/art-of-the-art-song-at-drom/
LOCATION:Drom\, 85 Avenue A\, New York\, NY\, 10009\, United States
CATEGORIES:Live Musical Performance
ATTACH;FMTTYPE=image/jpeg:https://img.evbuc.com/https%3A%2F%2Fcdn.evbuc.com%2Fimages%2F629884999%2F26571023233%2F1%2Foriginal.20231027-145344?w=1000&auto=format%2Ccompress&q=75&sharp=10&rect=0%2C0%2C2160%2C1080&s=8053233e4a24dab149b435aa78f5f262
GEO:40.72525;-73.9844492
X-APPLE-STRUCTURED-LOCATION;VALUE=URI;X-ADDRESS=Drom 85 Avenue A New York NY 10009 United States;X-APPLE-RADIUS=500;X-TITLE=85 Avenue A:geo:-73.9844492,40.72525
END:VEVENT
END:VCALENDAR