BEGIN:VCALENDAR
VERSION:2.0
PRODID:-//PIANYC - ECPv5.12.4//NONSGML v1.0//EN
CALSCALE:GREGORIAN
METHOD:PUBLISH
X-WR-CALNAME:PIANYC
X-ORIGINAL-URL:https://www.pianyc.net
X-WR-CALDESC:Events for PIANYC
BEGIN:VTIMEZONE
TZID:America/New_York
BEGIN:DAYLIGHT
TZOFFSETFROM:-0500
TZOFFSETTO:-0400
TZNAME:EDT
DTSTART:20240310T070000
END:DAYLIGHT
BEGIN:STANDARD
TZOFFSETFROM:-0400
TZOFFSETTO:-0500
TZNAME:EST
DTSTART:20241103T060000
END:STANDARD
END:VTIMEZONE
BEGIN:VEVENT
DTSTART;TZID=America/New_York:20240305T193000
DTEND;TZID=America/New_York:20240305T210000
DTSTAMP:20260421T081120
CREATED:20231115T182619Z
LAST-MODIFIED:20240303T003726Z
UID:156718-1709667000-1709672400@www.pianyc.net
SUMMARY:Ariel Lanyi\, Piano\, at Merkin Hall
DESCRIPTION:MUSICIANS ON THE RISEFrights\, Fancies & Fictions\nFRÉDÉRIC CHOPIN – Mazurkas\, Op. 59\nLERA AUERBACH – Selection from Preludes\, Op. 41\nL.V. BEETHOVEN – Sonata in E Major\, Op. 109 \nThe acclaimed young pianist explores connections between literature and music\, setting pieces by Chopin\, Auerbach and Beethoven alongside passages from books including Ian McEwan’s Saturday\, Yasmina Reza’s Hammerklavier and Jose Saramago’s Balthasar and Blimunda.
URL:https://www.pianyc.net/event/ariel-lanyi-piano-at-merkin-hall/
LOCATION:Merkin Concert Hall at Kaufman Music Center\, 129 W 67th St\, New York\, NY\, 10036\, United States
CATEGORIES:Live Musical Performance
ATTACH;FMTTYPE=image/jpeg:https://www.kaufmanmusiccenter.org/images/uploads/events/_medium/Lanyi_1000x1000_-_Kaupo_Kikkas.jpg
GEO:40.7752368;-73.9830916
X-APPLE-STRUCTURED-LOCATION;VALUE=URI;X-ADDRESS=Merkin Concert Hall at Kaufman Music Center 129 W 67th St New York NY 10036 United States;X-APPLE-RADIUS=500;X-TITLE=129 W 67th St:geo:-73.9830916,40.7752368
END:VEVENT
END:VCALENDAR