BEGIN:VCALENDAR
VERSION:2.0
PRODID:-//PIANYC - ECPv5.12.4//NONSGML v1.0//EN
CALSCALE:GREGORIAN
METHOD:PUBLISH
X-WR-CALNAME:PIANYC
X-ORIGINAL-URL:https://www.pianyc.net
X-WR-CALDESC:Events for PIANYC
BEGIN:VTIMEZONE
TZID:America/New_York
BEGIN:DAYLIGHT
TZOFFSETFROM:-0500
TZOFFSETTO:-0400
TZNAME:EDT
DTSTART:20260308T070000
END:DAYLIGHT
BEGIN:STANDARD
TZOFFSETFROM:-0400
TZOFFSETTO:-0500
TZNAME:EST
DTSTART:20261101T060000
END:STANDARD
END:VTIMEZONE
BEGIN:VEVENT
DTSTART;TZID=America/New_York:20260304T190000
DTEND;TZID=America/New_York:20260304T221500
DTSTAMP:20260421T103004
CREATED:20260211T161633Z
LAST-MODIFIED:20260225T215413Z
UID:196554-1772650800-1772662500@www.pianyc.net
SUMMARY:Anastassiya Petrova Organ Trio at The Django (Early and Late Shows)
DESCRIPTION:Lineup:\nAnastassiya Petrova – Organ\nIvan Polanski – Alto Saxophone\nTyson D. Jackson – Drums\nAnastassiya Petrova is a New York City–based jazz pianist and organist whose sound lives at the intersection of classic organ jazz and modern harmony – groove-centered\, tradition-aware\, and shaped by sophisticated harmonies in her original compositions. She has shared the stage with acclaimed artists including Terri Lyne Carrington\, Chris Potter\, Lakecia Benjamin\, Grace Kelly\, Catherine Russell\, and more. Anastassiya has performed at major international festivals\, including Umbria Jazz Festival (Italy)\, Panama Jazz Festival (Panama)\, Monterey Jazz Festival (CA)\, Beantown Jazz Festival (MA)\, Angel City Jazz Festival (CA)\, Exit Zero Jazz Festival (NJ)\, and Winter Jazz Festival (NYC). Her recording credits include a feature on a Grammy-nominated project by Lakecia Benjamin. \nThis event is recurring on the following dates:\nWed\, Mar 04 at 07:00 PM\nWed\, Mar 04 at 08:45 PM
URL:https://www.pianyc.net/event/anastassiya-petrova-organ-trio-at-the-django-early-and-late-shows/
LOCATION:The Django\, The Roxy Hotel\, Cellar Level\, 2 6th Ave\, New York\, NY\, 10013\, United States
CATEGORIES:Live Musical Performance
ATTACH;FMTTYPE=image/jpeg:https://encrypted-tbn0.gstatic.com/images?q=tbn:ANd9GcTFyIev1iNbunrdjqB19aqR3NVPMPnTj8W9_w&s
GEO:40.719404;-74.004902
X-APPLE-STRUCTURED-LOCATION;VALUE=URI;X-ADDRESS=The Django The Roxy Hotel Cellar Level 2 6th Ave New York NY 10013 United States;X-APPLE-RADIUS=500;X-TITLE=The Roxy Hotel\, Cellar Level\, 2 6th Ave:geo:-74.004902,40.719404
END:VEVENT
END:VCALENDAR