BEGIN:VCALENDAR
VERSION:2.0
PRODID:-//PIANYC - ECPv5.12.4//NONSGML v1.0//EN
CALSCALE:GREGORIAN
METHOD:PUBLISH
X-WR-CALNAME:PIANYC
X-ORIGINAL-URL:https://www.pianyc.net
X-WR-CALDESC:Events for PIANYC
BEGIN:VTIMEZONE
TZID:America/New_York
BEGIN:DAYLIGHT
TZOFFSETFROM:-0500
TZOFFSETTO:-0400
TZNAME:EDT
DTSTART:20240310T070000
END:DAYLIGHT
BEGIN:STANDARD
TZOFFSETFROM:-0400
TZOFFSETTO:-0500
TZNAME:EST
DTSTART:20241103T060000
END:STANDARD
END:VTIMEZONE
BEGIN:VEVENT
DTSTART;TZID=America/New_York:20241212T193000
DTEND;TZID=America/New_York:20241212T210000
DTSTAMP:20260420T084550
CREATED:20240816T190358Z
LAST-MODIFIED:20240816T190440Z
UID:170157-1734031800-1734037200@www.pianyc.net
SUMMARY:An Intimate Evening with David Foster & Katharine McPhee\, at NJPAC
DESCRIPTION:Broadway and TV sensation Katharine McPhee joins 16-time GRAMMY® Award-winning musician\, composer and producer David Foster for this intimate cabaret-style concert. With David on the keys and Katharine at the mic\, this power couple brings undeniable musical chemistry to the stage. The show will be packed with David’s hits from Chicago\, Whitney Houston\, Celine Dion\, Josh Groban and Michael Bublé\, as well as Katharine’s biggest songs from American Idol\, Smash and Broadway’s Waitress. Plus\, some of their favorites that they just love. \nThe American Song series at NJPAC is presented\, in part\, through the generous support of the Blanche and Irving Laurie Foundation\, the David S. Steiner and Sylvia Steiner Charitable Trust\, the Joan and Allen Bildner Family Fund\, and the Smart Family Foundation/David S. Stone\, Esq.\, Stone & Magnanini.
URL:https://www.pianyc.net/event/an-intimate-evening-with-david-foster-katharine-mcphee-at-njpac/
LOCATION:New Jersey Performing Arts Center\, 1 Center St\, Newark\, NJ\, 07102\, United States
CATEGORIES:Live Musical Performance
ATTACH;FMTTYPE=image/jpeg:https://www.njpac.org/wp-content/uploads/2023/03/1600x450_DavidFoster_KatharineMcPhee_onsale5.jpg
GEO:40.7401103;-74.1673925
X-APPLE-STRUCTURED-LOCATION;VALUE=URI;X-ADDRESS=New Jersey Performing Arts Center 1 Center St Newark NJ 07102 United States;X-APPLE-RADIUS=500;X-TITLE=1 Center St:geo:-74.1673925,40.7401103
END:VEVENT
END:VCALENDAR