BEGIN:VCALENDAR
VERSION:2.0
PRODID:-//PIANYC - ECPv5.12.4//NONSGML v1.0//EN
CALSCALE:GREGORIAN
METHOD:PUBLISH
X-WR-CALNAME:PIANYC
X-ORIGINAL-URL:https://www.pianyc.net
X-WR-CALDESC:Events for PIANYC
BEGIN:VTIMEZONE
TZID:America/New_York
BEGIN:DAYLIGHT
TZOFFSETFROM:-0500
TZOFFSETTO:-0400
TZNAME:EDT
DTSTART:20240310T070000
END:DAYLIGHT
BEGIN:STANDARD
TZOFFSETFROM:-0400
TZOFFSETTO:-0500
TZNAME:EST
DTSTART:20241103T060000
END:STANDARD
END:VTIMEZONE
BEGIN:VEVENT
DTSTART;TZID=America/New_York:20240128T170000
DTEND;TZID=America/New_York:20240128T183000
DTSTAMP:20260419T114011
CREATED:20230713T231741Z
LAST-MODIFIED:20230713T231741Z
UID:151500-1706461200-1706466600@www.pianyc.net
SUMMARY:An Evening with David Finckel and Wu Han\, Chamber Music Society of Lincoln Center
DESCRIPTION:CMS’s Artistic Directors take the spotlight for a special evening\, opening with Debussy’s iconic Cello Sonata. \nPerformers\nWu Han\, Piano\nRichard Lin\, Violin\nTimothy Ridout\, Viola\nDavid Finckel\, Cello
URL:https://www.pianyc.net/event/an-evening-with-david-finckel-and-wu-han-chamber-music-society-of-lincoln-center/
LOCATION:Alice Tully Hall at Lincoln Center\, 1941 Broadway\, New York\, NY\, 10023\, United States
CATEGORIES:Live Musical Performance
ATTACH;FMTTYPE=image/jpeg:https://encrypted-tbn3.gstatic.com/images?q=tbn:ANd9GcQaM8dAPAMIkYzpJq2ZOVvRUzzpHme6lLI32-2c1xp8hY2Ku6GT
GEO:40.773828;-73.9830908
X-APPLE-STRUCTURED-LOCATION;VALUE=URI;X-ADDRESS=Alice Tully Hall at Lincoln Center 1941 Broadway New York NY 10023 United States;X-APPLE-RADIUS=500;X-TITLE=1941 Broadway:geo:-73.9830908,40.773828
END:VEVENT
END:VCALENDAR