BEGIN:VCALENDAR
VERSION:2.0
PRODID:-//PIANYC - ECPv5.12.4//NONSGML v1.0//EN
CALSCALE:GREGORIAN
METHOD:PUBLISH
X-WR-CALNAME:PIANYC
X-ORIGINAL-URL:https://www.pianyc.net
X-WR-CALDESC:Events for PIANYC
BEGIN:VTIMEZONE
TZID:America/New_York
BEGIN:DAYLIGHT
TZOFFSETFROM:-0500
TZOFFSETTO:-0400
TZNAME:EDT
DTSTART:20240310T070000
END:DAYLIGHT
BEGIN:STANDARD
TZOFFSETFROM:-0400
TZOFFSETTO:-0500
TZNAME:EST
DTSTART:20241103T060000
END:STANDARD
END:VTIMEZONE
BEGIN:VEVENT
DTSTART;TZID=America/New_York:20240404T193000
DTEND;TZID=America/New_York:20240404T210000
DTSTAMP:20260420T091239
CREATED:20230413T105526Z
LAST-MODIFIED:20231115T025336Z
UID:147982-1712259000-1712264400@www.pianyc.net
SUMMARY:Alice Sara Ott Performs Ravel\, NY Phil\, at Lincoln Center
DESCRIPTION:Artists\nKarina Canellakis Conductor\nAlice Sara Ott Piano \nProgram\nWebern Six Pieces for Orchestra\, Op. 6 (1928 version)\nR. Strauss Tod und Verklärung (Death and Transfiguration)\nRavel Piano Concerto in G major\nScriabin Le Poème de l’extase (The Poem of Ecstasy) \nAlice Sara Ott\, in her NY Phil debut\, performs Ravel’s lush\, jazz-influenced G-major Piano Concerto. The program — led by Karina Canellakis\, also in her NY Phil debut — begins with Webern’s remarkably spare\, yet haunting Six Pieces. The concert’s two tone poems look past earthly life: Richard Strauss’s meditation on the death of an artist\, and Scriabin’s mystical and rhapsodic
URL:https://www.pianyc.net/event/alice-sara-ott-performs-ravel-ny-phil-at-lincoln-center/2024-04-04/
LOCATION:David Geffen Hall at Lincoln Center\, 132 West 65th Street\, New York\, NY\, 10023\, United States
CATEGORIES:Live Musical Performance
ATTACH;FMTTYPE=image/jpeg:https://res.cloudinary.com/nyphil/image/upload/f_auto,q_auto/v1676571337/images/concerts-tickets/calendar/2324/Alice_Sara_Ott_Ester_Haase.jpg
GEO:40.7731303;-73.9830865
X-APPLE-STRUCTURED-LOCATION;VALUE=URI;X-ADDRESS=David Geffen Hall at Lincoln Center 132 West 65th Street New York NY 10023 United States;X-APPLE-RADIUS=500;X-TITLE=132 West 65th Street:geo:-73.9830865,40.7731303
END:VEVENT
END:VCALENDAR