BEGIN:VCALENDAR
VERSION:2.0
PRODID:-//PIANYC - ECPv5.12.4//NONSGML v1.0//EN
CALSCALE:GREGORIAN
METHOD:PUBLISH
X-WR-CALNAME:PIANYC
X-ORIGINAL-URL:https://www.pianyc.net
X-WR-CALDESC:Events for PIANYC
BEGIN:VTIMEZONE
TZID:America/New_York
BEGIN:DAYLIGHT
TZOFFSETFROM:-0500
TZOFFSETTO:-0400
TZNAME:EDT
DTSTART:20260308T070000
END:DAYLIGHT
BEGIN:STANDARD
TZOFFSETFROM:-0400
TZOFFSETTO:-0500
TZNAME:EST
DTSTART:20261101T060000
END:STANDARD
END:VTIMEZONE
BEGIN:VEVENT
DTSTART;TZID=America/New_York:20260319T193000
DTEND;TZID=America/New_York:20260319T210000
DTSTAMP:20260420T084341
CREATED:20251122T154019Z
LAST-MODIFIED:20251210T032435Z
UID:192380-1773948600-1773954000@www.pianyc.net
SUMMARY:Alexandra Dovgan Solo Recital at Carnegie Hall
DESCRIPTION:Performer\nAlexandra Dovgan\, Piano \nProgram \nCHOPIN Barcarolle in F-sharp Major\, Op. 60\nCHOPIN Piano Sonata No. 3 in B Minor\nFRANCK Prelude\, Chorale\, and Fugue\nPROKOFIEV Piano Sonata No. 2 in D Minor\, Op. 14
URL:https://www.pianyc.net/event/alexandra-dovgan-solo-recital-at-carnegie-hall/
LOCATION:Carnegie Hall\, 881 Seventh Avenue\, New York\, NY\, 10019\, United States
CATEGORIES:Live Musical Performance
ATTACH;FMTTYPE=image/jpeg:https://carnegiehall.imgix.net:443/-/media/CarnegieHall/Images/Events/2025-2026-CH-Presents/2026-03-19-Alexandra-Dovgan.jpg
GEO:40.764938;-73.979897
X-APPLE-STRUCTURED-LOCATION;VALUE=URI;X-ADDRESS=Carnegie Hall 881 Seventh Avenue New York NY 10019 United States;X-APPLE-RADIUS=500;X-TITLE=881 Seventh Avenue:geo:-73.979897,40.764938
END:VEVENT
END:VCALENDAR