BEGIN:VCALENDAR
VERSION:2.0
PRODID:-//PIANYC - ECPv5.12.4//NONSGML v1.0//EN
CALSCALE:GREGORIAN
METHOD:PUBLISH
X-WR-CALNAME:PIANYC
X-ORIGINAL-URL:https://www.pianyc.net
X-WR-CALDESC:Events for PIANYC
BEGIN:VTIMEZONE
TZID:America/New_York
BEGIN:DAYLIGHT
TZOFFSETFROM:-0500
TZOFFSETTO:-0400
TZNAME:EDT
DTSTART:20250309T070000
END:DAYLIGHT
BEGIN:STANDARD
TZOFFSETFROM:-0400
TZOFFSETTO:-0500
TZNAME:EST
DTSTART:20251102T060000
END:STANDARD
END:VTIMEZONE
BEGIN:VEVENT
DTSTART;TZID=America/New_York:20251005T180000
DTEND;TZID=America/New_York:20251005T210000
DTSTAMP:20260423T030931
CREATED:20250917T160823Z
LAST-MODIFIED:20250928T154046Z
UID:188123-1759687200-1759698000@www.pianyc.net
SUMMARY:Alex Minasian Quartet at The Django (Early and Late Shows)
DESCRIPTION:Alex Minasian has established himself as a versatile pianist and educator in a wide variety of musical genres. He studied with some of the greatest pianists in jazz history\, including Hank Jones\, Don Friedman\, and James Williams\, He was also the last pianist for two legendary jazz vocalists\, Little Jimmy Scott\, and Mark Murphy\, and he’s shared the stage with legends like Arturo Sandoval\, ?uestlove\, James Ingram\, Sam Moore\, Curtis Fuller\, Hank Jones\, Clark Terry\, and Little Anthony and the Imperials. Don’t miss him live on the Django stage! \nThis event is recurring on the following dates:\nSun\, Oct 05 at 06:00 PM\nSun\, Oct 05 at 07:30 PM
URL:https://www.pianyc.net/event/alex-minasian-quartet-at-the-django-early-and-late-shows/
LOCATION:The Django\, The Roxy Hotel\, Cellar Level\, 2 6th Ave\, New York\, NY\, 10013\, United States
CATEGORIES:Live Musical Performance
ATTACH;FMTTYPE=image/jpeg:https://www.pianyc.net/wp-content/uploads/2025/09/django_hi-res-scaled-e1664719465426-900x900-1.jpg
GEO:40.719404;-74.004902
X-APPLE-STRUCTURED-LOCATION;VALUE=URI;X-ADDRESS=The Django The Roxy Hotel Cellar Level 2 6th Ave New York NY 10013 United States;X-APPLE-RADIUS=500;X-TITLE=The Roxy Hotel\, Cellar Level\, 2 6th Ave:geo:-74.004902,40.719404
END:VEVENT
END:VCALENDAR