BEGIN:VCALENDAR
VERSION:2.0
PRODID:-//PIANYC - ECPv5.12.4//NONSGML v1.0//EN
CALSCALE:GREGORIAN
METHOD:PUBLISH
X-WR-CALNAME:PIANYC
X-ORIGINAL-URL:https://www.pianyc.net
X-WR-CALDESC:Events for PIANYC
BEGIN:VTIMEZONE
TZID:America/New_York
BEGIN:DAYLIGHT
TZOFFSETFROM:-0500
TZOFFSETTO:-0400
TZNAME:EDT
DTSTART:20230312T070000
END:DAYLIGHT
BEGIN:STANDARD
TZOFFSETFROM:-0400
TZOFFSETTO:-0500
TZNAME:EST
DTSTART:20231105T060000
END:STANDARD
END:VTIMEZONE
BEGIN:VEVENT
DTSTART;TZID=America/New_York:20231215T190000
DTEND;TZID=America/New_York:20231215T203000
DTSTAMP:20260420T072232
CREATED:20230819T194804Z
LAST-MODIFIED:20230819T194804Z
UID:153498-1702666800-1702672200@www.pianyc.net
SUMMARY:Aglaia Koras Solo Recital at Carnegie Hall
DESCRIPTION:Performer\nAglaia Koras\, Piano \nReturning to Weill Recital Hall in honor of Beethoven’s birthday\, Greek-American pianist Aglaia Koras performs an all-Beethoven program. An alumnus of Curtis Institute of Music\, Koras made her debut with the San Francisco Symphony Orchestra at the age of eleven and has since performed at major concert halls throughout the United States\, Europe\, Canada\, and Mexico. \nProgram\nPiano Sonata No. 8 in C Minor\, Op. 13\, “Pathétique”\nPiano Sonata No. 31 in A-flat Major\, Op. 110\nPiano Sonata No. 14 in C-sharp Minor\, Op. 27\, No. 2\, “Moonlight”\nPiano Sonata No. 23 in F Minor\, Op. 57\, “Appassionata”
URL:https://www.pianyc.net/event/aglaia-koras-solo-recital-at-carnegie-hall/
LOCATION:Carnegie Hall\, 881 Seventh Avenue\, New York\, NY\, 10019\, United States
CATEGORIES:Live Musical Performance
ATTACH;FMTTYPE=image/jpeg:https://carnegiehall.imgix.net:443/-/media/CarnegieHall/Images/Events/2023-2024-Rentals/koras-aglaia.jpg
GEO:40.764938;-73.979897
X-APPLE-STRUCTURED-LOCATION;VALUE=URI;X-ADDRESS=Carnegie Hall 881 Seventh Avenue New York NY 10019 United States;X-APPLE-RADIUS=500;X-TITLE=881 Seventh Avenue:geo:-73.979897,40.764938
END:VEVENT
END:VCALENDAR