BEGIN:VCALENDAR
VERSION:2.0
PRODID:-//PIANYC - ECPv5.12.4//NONSGML v1.0//EN
CALSCALE:GREGORIAN
METHOD:PUBLISH
X-WR-CALNAME:PIANYC
X-ORIGINAL-URL:https://www.pianyc.net
X-WR-CALDESC:Events for PIANYC
BEGIN:VTIMEZONE
TZID:America/New_York
BEGIN:DAYLIGHT
TZOFFSETFROM:-0500
TZOFFSETTO:-0400
TZNAME:EDT
DTSTART:20260308T070000
END:DAYLIGHT
BEGIN:STANDARD
TZOFFSETFROM:-0400
TZOFFSETTO:-0500
TZNAME:EST
DTSTART:20261101T060000
END:STANDARD
END:VTIMEZONE
BEGIN:VEVENT
DTSTART;TZID=America/New_York:20260208T130000
DTEND;TZID=America/New_York:20260208T143000
DTSTAMP:20260420T085336
CREATED:20251122T153441Z
LAST-MODIFIED:20251123T193206Z
UID:192358-1770555600-1770561000@www.pianyc.net
SUMMARY:Aegio International Piano Competition and BAMA International Piano Festival Winners Concert\, at Carnegie Hall
DESCRIPTION:Performer\nWinners Recital
URL:https://www.pianyc.net/event/aegio-international-piano-competition-and-bama-international-piano-festival-winners-concert-at-carnegie-hall/
LOCATION:Carnegie Hall\, 881 Seventh Avenue\, New York\, NY\, 10019\, United States
CATEGORIES:Live Musical Performance
ATTACH;FMTTYPE=image/jpeg:https://upload.wikimedia.org/wikipedia/commons/thumb/2/26/Carnegie_Hall_-_Full_%2848155558466%29.jpg/1200px-Carnegie_Hall_-_Full_%2848155558466%29.jpg
GEO:40.764938;-73.979897
X-APPLE-STRUCTURED-LOCATION;VALUE=URI;X-ADDRESS=Carnegie Hall 881 Seventh Avenue New York NY 10019 United States;X-APPLE-RADIUS=500;X-TITLE=881 Seventh Avenue:geo:-73.979897,40.764938
END:VEVENT
END:VCALENDAR