BEGIN:VCALENDAR
VERSION:2.0
PRODID:-//PIANYC - ECPv5.12.4//NONSGML v1.0//EN
CALSCALE:GREGORIAN
METHOD:PUBLISH
X-WR-CALNAME:PIANYC
X-ORIGINAL-URL:https://www.pianyc.net
X-WR-CALDESC:Events for PIANYC
BEGIN:VTIMEZONE
TZID:America/New_York
BEGIN:DAYLIGHT
TZOFFSETFROM:-0500
TZOFFSETTO:-0400
TZNAME:EDT
DTSTART:20230312T070000
END:DAYLIGHT
BEGIN:STANDARD
TZOFFSETFROM:-0400
TZOFFSETTO:-0500
TZNAME:EST
DTSTART:20231105T060000
END:STANDARD
END:VTIMEZONE
BEGIN:VEVENT
DTSTART;TZID=America/New_York:20230310T193000
DTEND;TZID=America/New_York:20230310T210000
DTSTAMP:20260420T102339
CREATED:20221228T221355Z
LAST-MODIFIED:20221228T221417Z
UID:143798-1678476600-1678482000@www.pianyc.net
SUMMARY:Adam W. Sadberry\, Artina McCain and Ayo Jackson at Merkin Hall
DESCRIPTION:Part of the Music Speaks series\nMusical Journalism: Continuing a Legacy through the Flute\nThis is a concert inspired by Adam W. Sadberry’s late grandfather and unsung hero of the Civil Rights Movement\, L. Alex Wilson. Wilson’s work as an editor and journalist changed the world through covering pivotal Civil Rights events including the lynching of Emmett Till\, the Montgomery Bus Boycott and the desegregation of Central High School by the Little Rock 9\, the last of which played a part in Wilson’s transformation into a martyr. In this concert\, Adam intertwines articles that he collected from the archives of the Tri-State Defender\, Wilson’s newspaper in Memphis\, TN\, with music and dance that contextualizes the humanity and inhumanity of the stories. \nProgram \nWILLIAM GRANT STILL – Mother and Child\nFRED ONOVWEROSUOKE – Six Variations on a Pende Tune for Solo Flute\nVALERIE COLEMAN – Wish Sonatine\nDAMEUN STRANGE – Commissioned Work\nUNKNOWN – “He’s Got the Whole World in His Hands”\nCOLERIDGE-TAYLOR PERKINSON – “Lil’ Lite o’ Mine”
URL:https://www.pianyc.net/event/adam-w-sadberry-flute-artina-mccain-piano-ayo-jackson-dancer-choreographer-at-merkin-hall/
LOCATION:Merkin Concert Hall at Kaufman Music Center\, 129 W 67th St\, New York\, NY\, 10036\, United States
CATEGORIES:Live Musical Performance
ATTACH;FMTTYPE=image/jpeg:https://www.kaufmanmusiccenter.org/images/uploads/events/_medium/Sadberry_1200x1200.jpg
GEO:40.7752368;-73.9830916
X-APPLE-STRUCTURED-LOCATION;VALUE=URI;X-ADDRESS=Merkin Concert Hall at Kaufman Music Center 129 W 67th St New York NY 10036 United States;X-APPLE-RADIUS=500;X-TITLE=129 W 67th St:geo:-73.9830916,40.7752368
END:VEVENT
END:VCALENDAR