BEGIN:VCALENDAR
VERSION:2.0
PRODID:-//PIANYC - ECPv5.12.4//NONSGML v1.0//EN
CALSCALE:GREGORIAN
METHOD:PUBLISH
X-WR-CALNAME:PIANYC
X-ORIGINAL-URL:https://www.pianyc.net
X-WR-CALDESC:Events for PIANYC
BEGIN:VTIMEZONE
TZID:America/New_York
BEGIN:DAYLIGHT
TZOFFSETFROM:-0500
TZOFFSETTO:-0400
TZNAME:EDT
DTSTART:20230312T070000
END:DAYLIGHT
BEGIN:STANDARD
TZOFFSETFROM:-0400
TZOFFSETTO:-0500
TZNAME:EST
DTSTART:20231105T060000
END:STANDARD
END:VTIMEZONE
BEGIN:VEVENT
DTSTART;TZID=America/New_York:20230521T170000
DTEND;TZID=America/New_York:20230521T190000
DTSTAMP:20260421T070016
CREATED:20230520T235542Z
LAST-MODIFIED:20230520T235617Z
UID:149803-1684688400-1684695600@www.pianyc.net
SUMMARY:A Cross-Cultural Musical Journey in Pursuit of Peace\, at Evans Real Estate Investments
DESCRIPTION:Join for an inspirational evening of music that breaks cultural stereotypes and boundaries in a pursuit of freedom and peace. Moving and heartwarming musical selections by Ukrainian and Jewish composers\, who dedicated their work to the search for their national and cultural identity. \nFeaturing – Alesia Kizil – an accomplished Ukrainian pianist\, a staff member of the Kharkov Theater of Opera and Ballet and the Kharkov National Institute of Arts\, now residing in Warsaw Poland\, and Maria Dubinsky – a New Jersey based Cantor\, performer and educator. \nAlesia Kizil – Piano \nMaria Dubinsky – Voice
URL:https://www.pianyc.net/event/a-cross-cultural-musical-journey-in-pursuit-of-peace-at-evans-real-estate-investments/
LOCATION:Evans Real Estate Investments\, 249 West 60th St\, New York\, NY\, 10023\, United States
CATEGORIES:Live Musical Performance
ATTACH;FMTTYPE=image/jpeg:https://img.evbuc.com/https%3A%2F%2Fcdn.evbuc.com%2Fimages%2F503807419%2F210344947376%2F1%2Foriginal.20230429-150346?w=1000&auto=format%2Ccompress&q=75&sharp=10&rect=0%2C139%2C1098%2C549&s=b468eedacdddb24f8183f74a5cecf2ea
GEO:40.7720727;-73.9892092
X-APPLE-STRUCTURED-LOCATION;VALUE=URI;X-ADDRESS=Evans Real Estate Investments 249 West 60th St New York NY 10023 United States;X-APPLE-RADIUS=500;X-TITLE=249 West 60th St:geo:-73.9892092,40.7720727
END:VEVENT
END:VCALENDAR