BEGIN:VCALENDAR
VERSION:2.0
PRODID:-//PIANYC - ECPv5.12.4//NONSGML v1.0//EN
CALSCALE:GREGORIAN
METHOD:PUBLISH
X-WR-CALNAME:PIANYC
X-ORIGINAL-URL:https://www.pianyc.net
X-WR-CALDESC:Events for PIANYC
BEGIN:VTIMEZONE
TZID:America/New_York
BEGIN:DAYLIGHT
TZOFFSETFROM:-0500
TZOFFSETTO:-0400
TZNAME:EDT
DTSTART:20230312T070000
END:DAYLIGHT
BEGIN:STANDARD
TZOFFSETFROM:-0400
TZOFFSETTO:-0500
TZNAME:EST
DTSTART:20231105T060000
END:STANDARD
END:VTIMEZONE
BEGIN:VEVENT
DTSTART;TZID=America/New_York:20230213T190000
DTEND;TZID=America/New_York:20230213T220000
DTSTAMP:20260421T103121
CREATED:20221106T014428Z
LAST-MODIFIED:20221106T014428Z
UID:140504-1676314800-1676325600@www.pianyc.net
SUMMARY:A Concert of New Music at OPERA America's National Opera Center
DESCRIPTION:David Picton — Sonata — piano solo \nAndrei Bandura — Sonata — violin\, piano \nDebra Kaye — Submarine Dreams — bass flute\, double bass \nNataliya Medvedovskaya — Roaches’ Journey — 2 bassoons \nKevin McCarter — Responding Variations — oboe\, viola \n— intermission — \nTamara Cashour — Piccolo Giardino & Contra-Indication — piccolo\, contrabassoon \nOlga Viktorova — Fung Hoan\, the Magical Birds — violin solo \nTimothy L. Miller — Two Settings of Ogden Nash Poems — narrator-pianist \nDavid Mecionis — Trio in Two Parts with an Interval Between — oboe\, viola\, bassoon
URL:https://www.pianyc.net/event/a-concert-of-new-music-at-opera-americas-national-opera-center/
LOCATION:OPERA America’s National Opera Center\, 330 Seventh Avenue\, 7th Floor\, New York\, NY\, 10001\, United States
CATEGORIES:Live Musical Performance
ATTACH;FMTTYPE=image/jpeg:https://img.evbuc.com/https%3A%2F%2Fcdn.evbuc.com%2Fimages%2F357185279%2F403370633669%2F1%2Foriginal.20220919-202305?w=1000&auto=format%2Ccompress&q=75&sharp=10&rect=5%2C0%2C1708%2C854&s=b29fb1e851a6701aa2b1ae47f303fb85
GEO:40.7477734;-73.9933646
X-APPLE-STRUCTURED-LOCATION;VALUE=URI;X-ADDRESS=OPERA America’s National Opera Center 330 Seventh Avenue 7th Floor New York NY 10001 United States;X-APPLE-RADIUS=500;X-TITLE=330 Seventh Avenue\, 7th Floor:geo:-73.9933646,40.7477734
END:VEVENT
END:VCALENDAR