BEGIN:VCALENDAR
VERSION:2.0
PRODID:-//PIANYC - ECPv5.12.4//NONSGML v1.0//EN
CALSCALE:GREGORIAN
METHOD:PUBLISH
X-WR-CALNAME:PIANYC
X-ORIGINAL-URL:https://www.pianyc.net
X-WR-CALDESC:Events for PIANYC
BEGIN:VTIMEZONE
TZID:America/New_York
BEGIN:DAYLIGHT
TZOFFSETFROM:-0500
TZOFFSETTO:-0400
TZNAME:EDT
DTSTART:20230312T070000
END:DAYLIGHT
BEGIN:STANDARD
TZOFFSETFROM:-0400
TZOFFSETTO:-0500
TZNAME:EST
DTSTART:20231105T060000
END:STANDARD
END:VTIMEZONE
BEGIN:VEVENT
DTSTART;TZID=America/New_York:20230701T193000
DTEND;TZID=America/New_York:20230701T210000
DTSTAMP:20260423T043138
CREATED:20230701T021410Z
LAST-MODIFIED:20230701T021410Z
UID:151122-1688239800-1688245200@www.pianyc.net
SUMMARY:A Ballet by Miro Magloire at Mark Morris Dance Group; Melody Fader\, Piano
DESCRIPTION:New Chamber Ballet returns to the stage with a revival of Miro Magloire’s Sea. \nThe 55-minute\, lyrical work\, premiered two years ago\, is set to music by contemporary composer Richard Carrick. \nAs New York woke up from its performing arts Covid hiatus\, New Chamber Ballet premiered Sea\, a quintet choreographed by Magloire to The Mill\, Preludes for piano\, Danga\, and In Flow for solo violin by Richard Carrick. At the time\, the ballet was simply billed as “inspired by the movement of waves in the water…and the joy of dancing together”. In reality it was more than that.  Sea has brought a new quality to New Chamber Ballet’s work: the dancers perform the entire hour-long piece as an ensemble – dancing as a group in overlapping patterns and trading the lead roles every few moments. The quintet is a tour-de-force of concentration and stamina. \nThe music consists of four works by Carrick\, three of which were commissioned by New Chamber Ballet over the years. The result is a whirlwind of melodic and rhythmic impressions\, many of them alluding to ancient sites around the globe\, described by the composer as “a travelogue of haunting places”. Miro’s choreography responds with lilting movements that not only evoke water – an effect enhanced by Sarah Thea Craig’s floating blue costumes – but surprise the eye with their rhythmic complexity. \nPerformers include the dancers Anabel Alpert\, Megan Foley\, Nicole McGinnis\, Amber Neff\, and Rachele Perla; as well as Doori Na (violin) and Melody Fader (piano). \n“It’s heartening to see work so focused on the meeting of dance and music.” -Alastair Macaulay\, The New York Times \nRichard Carrick’s score for Sea was commissioned by the Charles and Joan Gross Family Foundation.
URL:https://www.pianyc.net/event/a-ballet-by-miro-magloire-at-mark-morris-dance-group-melody-fader-piano/
LOCATION:Mark Morris Dance Group\, 3 Lafayette Ave\,\, Brooklyn\, NY\, 11217\, United States
CATEGORIES:Live Musical Performance
ATTACH;FMTTYPE=image/jpeg:https://img.evbuc.com/https%3A%2F%2Fcdn.evbuc.com%2Fimages%2F521178769%2F21467751654%2F1%2Foriginal.20230523-223043?w=1000&auto=format%2Ccompress&q=75&sharp=10&rect=0%2C0%2C2160%2C1080&s=ebb0aa779a0a8d1f48a9c6d7a163ec7b
GEO:40.6869833;-73.9789168
X-APPLE-STRUCTURED-LOCATION;VALUE=URI;X-ADDRESS=Mark Morris Dance Group 3 Lafayette Ave Brooklyn NY 11217 United States;X-APPLE-RADIUS=500;X-TITLE=3 Lafayette Ave\,:geo:-73.9789168,40.6869833
END:VEVENT
END:VCALENDAR