BEGIN:VCALENDAR
VERSION:2.0
PRODID:-//PIANYC - ECPv5.12.4//NONSGML v1.0//EN
CALSCALE:GREGORIAN
METHOD:PUBLISH
X-WR-CALNAME:PIANYC
X-ORIGINAL-URL:https://www.pianyc.net
X-WR-CALDESC:Events for PIANYC
BEGIN:VTIMEZONE
TZID:America/New_York
BEGIN:DAYLIGHT
TZOFFSETFROM:-0500
TZOFFSETTO:-0400
TZNAME:EDT
DTSTART:20250309T070000
END:DAYLIGHT
BEGIN:STANDARD
TZOFFSETFROM:-0400
TZOFFSETTO:-0500
TZNAME:EST
DTSTART:20251102T060000
END:STANDARD
END:VTIMEZONE
BEGIN:VEVENT
DTSTART;TZID=America/New_York:20250625T190000
DTEND;TZID=America/New_York:20250625T233000
DTSTAMP:20260421T094452
CREATED:20250624T005858Z
LAST-MODIFIED:20250624T011747Z
UID:182783-1750878000-1750894200@www.pianyc.net
SUMMARY:Eric Scott Reed Quintet “Out Late” Record Release Celebration\, at Smoke Jazz (Multiple Shows)
DESCRIPTION:Eric Scott Reed – piano\nNicholas Payton – trumpet\nEric Alexander – tenor saxophone\nDezron Douglas – bass\nWillie Jones III – drums \n*PLEASE NOTE: All 7PM and 9PM shows at Smoke are Dinner Shows \n$25 | $30 | $40 | $45 – Wed & Thu\n$35 | $40 | $50 | $55 -Fri & Sun\n$35 | $50 | $60 | $65 – Sat \n“From his earliest recordings over 30 years ago\, Eric Scott Reed has been a pianist of fiery passion and soulful finesse.” – WRTI \nEric Scott Reed celebrates the release of his brilliant new album\, Out Late\, joined by an extraordinary quintet featuring trumpeter Nicholas Payton\, saxophonist Eric Alexander\, bassist Dezron Douglas\, and drummer Willie Jones III. Downbeat praises Reed as “one of those tremendously gifted players\, while All About Jazz notes that he has “fully established himself at the forefront of jazz pianists.” A child prodigy who honed his craft in his father’s storefront Baptist Church\, Reed has been a key figure in jazz for over three decades. Ahmad Jamal cited Redd as “one of my very favorite pianists.” In addition to his virtuosic playing\, he is a gifted composer and Out Late\, and these performances will feature his latest original works.
URL:https://www.pianyc.net/event/__trashed-5/
LOCATION:Smoke Jazz\,  2751 Broadway\, New York\, NY\, 10025\, United States
ATTACH;FMTTYPE=image/jpeg:https://assets-prod.turntabletickets.com/media/smokejazz/show-6758/Screenshot_2025-04-04_at_1.18.17PM.png
GEO:40.8011473;-73.968266
X-APPLE-STRUCTURED-LOCATION;VALUE=URI;X-ADDRESS=Smoke Jazz  2751 Broadway New York NY 10025 United States;X-APPLE-RADIUS=500;X-TITLE=2751 Broadway:geo:-73.968266,40.8011473
END:VEVENT
END:VCALENDAR