BEGIN:VCALENDAR
VERSION:2.0
PRODID:-//PIANYC - ECPv5.12.4//NONSGML v1.0//EN
CALSCALE:GREGORIAN
METHOD:PUBLISH
X-WR-CALNAME:PIANYC
X-ORIGINAL-URL:https://www.pianyc.net
X-WR-CALDESC:Events for PIANYC
BEGIN:VTIMEZONE
TZID:America/New_York
BEGIN:DAYLIGHT
TZOFFSETFROM:-0500
TZOFFSETTO:-0400
TZNAME:EDT
DTSTART:20250309T070000
END:DAYLIGHT
BEGIN:STANDARD
TZOFFSETFROM:-0400
TZOFFSETTO:-0500
TZNAME:EST
DTSTART:20251102T060000
END:STANDARD
END:VTIMEZONE
BEGIN:VEVENT
DTSTART;TZID=America/New_York:20250504T150000
DTEND;TZID=America/New_York:20250504T163000
DTSTAMP:20260422T121718
CREATED:20250403T031445Z
LAST-MODIFIED:20250409T213356Z
UID:180014-1746370800-1746376200@www.pianyc.net
SUMMARY:Faculty Concert: Kate Miller and Calvin Hu\, Piano\, at 92NY
DESCRIPTION:Ordinarily solo pianists\, 92NY colleagues Kate Miller and Calvin Hu present a fun\, rhythmic\, humorous program which brings together different dance styles – Ravel’s classic La Valse and Eleanor Alberga’s 3-Day Mix – and combines them with less traditional duos like Steve Reich’s Clapping Music and a set for toy piano duo. \nProgram includes:\nSteve Reich: Clapping Music\nSam Wu: Hyperlooping\nEleanor Alberga: 3-Day Mix\nDavid Smooke: Toy With Me\nTonia Ko: Tired Thing\nAndy Akiho: Karakurenai\nRavel: La Valse 4 Hands \nFree and open to the public.
URL:https://www.pianyc.net/event/92y-faculty-concert-kate-miller-and-calvin-hu-piano/
LOCATION:92nd Street Y\, 1395 Lexington Ave\, New York\, NY\, 10128\, United States
ATTACH;FMTTYPE=image/jpeg:https://ny92-stage.imgix.net/92streety/media/img/music/faculty/lg/miller-hu.jpg?fit=crop&w=1248&h=748&auto=format
GEO:40.7829338;-73.9525147
X-APPLE-STRUCTURED-LOCATION;VALUE=URI;X-ADDRESS=92nd Street Y 1395 Lexington Ave New York NY 10128 United States;X-APPLE-RADIUS=500;X-TITLE=1395 Lexington Ave:geo:-73.9525147,40.7829338
END:VEVENT
END:VCALENDAR